BEGIN:VCALENDAR
VERSION:2.0
PRODID:-//Parāoa Brewing Co. - Whangaparāoa, NZ - ECPv6.15.12.2//NONSGML v1.0//EN
CALSCALE:GREGORIAN
METHOD:PUBLISH
X-WR-CALNAME:Parāoa Brewing Co. - Whangaparāoa, NZ
X-ORIGINAL-URL:https://paraoa.co.nz
X-WR-CALDESC:Events for Parāoa Brewing Co. - Whangaparāoa, NZ
REFRESH-INTERVAL;VALUE=DURATION:PT1H
X-Robots-Tag:noindex
X-PUBLISHED-TTL:PT1H
BEGIN:VTIMEZONE
TZID:Pacific/Auckland
BEGIN:STANDARD
TZOFFSETFROM:+1300
TZOFFSETTO:+1200
TZNAME:NZST
DTSTART:20240406T140000
END:STANDARD
BEGIN:DAYLIGHT
TZOFFSETFROM:+1200
TZOFFSETTO:+1300
TZNAME:NZDT
DTSTART:20240928T140000
END:DAYLIGHT
BEGIN:STANDARD
TZOFFSETFROM:+1300
TZOFFSETTO:+1200
TZNAME:NZST
DTSTART:20250405T140000
END:STANDARD
BEGIN:DAYLIGHT
TZOFFSETFROM:+1200
TZOFFSETTO:+1300
TZNAME:NZDT
DTSTART:20250927T140000
END:DAYLIGHT
BEGIN:STANDARD
TZOFFSETFROM:+1300
TZOFFSETTO:+1200
TZNAME:NZST
DTSTART:20260404T140000
END:STANDARD
BEGIN:DAYLIGHT
TZOFFSETFROM:+1200
TZOFFSETTO:+1300
TZNAME:NZDT
DTSTART:20260926T140000
END:DAYLIGHT
END:VTIMEZONE
BEGIN:VEVENT
DTSTART;TZID=Pacific/Auckland:20250712T130000
DTEND;TZID=Pacific/Auckland:20250712T150000
DTSTAMP:20260424T032434
CREATED:20250702T084441Z
LAST-MODIFIED:20250702T084441Z
UID:9467-1752325200-1752332400@paraoa.co.nz
SUMMARY:CRAFTING CHARM BRACELETS FOR HOSPICE - 12TH JULY!
DESCRIPTION:CRAFTING CHARM BRACELETS FOR HOSPICE – 12TH JULY!\nWe’re crafting lovely CHARM BRACELETS at this mid-winter fundraising event for Harbour Hospice! \nGather your friends for an afternoon of creating\, Christmassy spirit\, door prizes\, treats and more! \nAll craft supplies are included\, part proceeds to go to Harbour Hospice \nBook your tickets online for one of the prized spots available and support Harbour Hospice!! \nTicket: Click here
URL:https://paraoa.co.nz/event/crafting-charm-bracelets-for-hospice-12th-july/
ATTACH;FMTTYPE=image/png:https://paraoa.co.nz/wp-content/uploads/2025/07/image_2025-07-02_204406017.png
END:VEVENT
END:VCALENDAR