BEGIN:VCALENDAR
VERSION:2.0
PRODID:-//Parāoa Brewing Co. - Whangaparāoa, NZ - ECPv6.15.12.2//NONSGML v1.0//EN
CALSCALE:GREGORIAN
METHOD:PUBLISH
X-ORIGINAL-URL:https://paraoa.co.nz
X-WR-CALDESC:Events for Parāoa Brewing Co. - Whangaparāoa, NZ
REFRESH-INTERVAL;VALUE=DURATION:PT1H
X-Robots-Tag:noindex
X-PUBLISHED-TTL:PT1H
BEGIN:VTIMEZONE
TZID:Pacific/Auckland
BEGIN:STANDARD
TZOFFSETFROM:+1300
TZOFFSETTO:+1200
TZNAME:NZST
DTSTART:20240406T140000
END:STANDARD
BEGIN:DAYLIGHT
TZOFFSETFROM:+1200
TZOFFSETTO:+1300
TZNAME:NZDT
DTSTART:20240928T140000
END:DAYLIGHT
BEGIN:STANDARD
TZOFFSETFROM:+1300
TZOFFSETTO:+1200
TZNAME:NZST
DTSTART:20250405T140000
END:STANDARD
BEGIN:DAYLIGHT
TZOFFSETFROM:+1200
TZOFFSETTO:+1300
TZNAME:NZDT
DTSTART:20250927T140000
END:DAYLIGHT
BEGIN:STANDARD
TZOFFSETFROM:+1300
TZOFFSETTO:+1200
TZNAME:NZST
DTSTART:20260404T140000
END:STANDARD
BEGIN:DAYLIGHT
TZOFFSETFROM:+1200
TZOFFSETTO:+1300
TZNAME:NZDT
DTSTART:20260926T140000
END:DAYLIGHT
END:VTIMEZONE
BEGIN:VEVENT
DTSTART;TZID=Pacific/Auckland:20250719T120000
DTEND;TZID=Pacific/Auckland:20250719T140000
DTSTAMP:20260423T154441
CREATED:20250625T231034Z
LAST-MODIFIED:20250625T231034Z
UID:9450-1752926400-1752933600@paraoa.co.nz
SUMMARY:AI FOR BEGINNERS - 19TH JULY!
DESCRIPTION:AI FOR BEGINNERS – 19TH JULY!\nDiscover the Power of AI – Live Training at Paraoa Brewing Co. \nBEGINNERS WELCOME! \nCurious about AI but not sure where to start? This is the perfect event for YOU. \nJoin us for a relaxed and engaging AI for Beginners workshop\, designed to help you understand and start using artificial intelligence in everyday life—no tech skills required! \nWhat you’ll learn:\nWhat AI is (and what it isn’t)\nHow to use tools like ChatGPT to save time and boost creativity\nReal-world examples of how AI can help in work\, family and life\nHands-on tips to get started today—on your phone or laptop! \nWhy you’ll love it:\nFriendly\, beginner-level instruction\nGreat venue\, great vibes – enjoy a drink and lunch while you learn\nMeet other local like minded people also new to exploring Ai\nLeave feeling confident and inspired \nNo jargon. No pressure. Just a fun\, practical intro to the world of AI. \nLimited spaces available – book now to secure your seat! \nTickets: Click here
URL:https://paraoa.co.nz/event/ai-for-beginners-19th-july/
ATTACH;FMTTYPE=image/png:https://paraoa.co.nz/wp-content/uploads/2025/06/image_2025-06-26_111005225.png
END:VEVENT
BEGIN:VEVENT
DTSTART;TZID=Pacific/Auckland:20250719T173000
DTEND;TZID=Pacific/Auckland:20250719T220000
DTSTAMP:20260423T154441
CREATED:20250606T023827Z
LAST-MODIFIED:20250606T023827Z
UID:9403-1752946200-1752962400@paraoa.co.nz
SUMMARY:A NIGHT OF STARS FRANKIE STEVENS MNZM & GUY CATER - 19TH JULY!
DESCRIPTION:A NIGHT OF STARS FRANKIE STEVENS MNZM & GUY CATER – 19TH JULY!\n\n\nGet ready for an unforgettable evening of entertainment as we celebrate two of New Zealand’s most iconic entertainers\, Frankie Stevens MNZM and Guy Cater\, at their Star Unveilings on the 19th of July.\nThis event promises to be a dazzling celebration of their remarkable careers\, showcasing their outstanding contributions to the world of music\, comedy\, and magic. \nThis is also a 15th year Anniversary for the NZ Walk of Fame so a day to truly remember as a historic event. \nA Night to Remember!!! \nOn the 19th of July\, join us as we honor the incredible careers of Frankie Stevens MNZM and Guy Cater—two entertainers who have not only shaped New Zealand’s cultural landscape but also left an indelible mark on the global stage. This special event will feature performances\, tributes\, and a star unveiling ceremony that will showcase their outstanding contributions to music\, comedy\, magic\, and hypnosis.\nThey will be joined by more famous NZ entertainers to really make this show a wonderful 15 year Anniversay event. \nThis event is a must-attend for anyone who appreciates the magic of live entertainment and the legends who have made it all possible. Whether you’re a fan of Frankie’s legendary voice and stage presence\, or a lover of Guy’s spellbinding hypnosis and comedy\, this night promises to deliver an unforgettable experience. \nExpect a glamorous evening filled with excitement\, laughter\, and plenty of star power from other famous NZ entertainers. From live performances to heartwarming tributes\, it’s a celebration of the incredible achievements of two men who have given so much to the arts\, both in New Zealand and around the world. \nDon’t miss out on this incredible event—mark your calendar for the 19th of July and get ready to witness the unveiling of two stars who have lit up the entertainment world for decades. \nTickets: Click here
URL:https://paraoa.co.nz/event/a-night-of-stars-frankie-stevens-mnzm-guy-cater-19th-july/
ATTACH;FMTTYPE=image/png:https://paraoa.co.nz/wp-content/uploads/2025/06/image_2025-06-06_143722291.png
END:VEVENT
END:VCALENDAR