BEGIN:VCALENDAR
VERSION:2.0
PRODID:-//Parāoa Brewing Co. - Whangaparāoa, NZ - ECPv6.15.12.2//NONSGML v1.0//EN
CALSCALE:GREGORIAN
METHOD:PUBLISH
X-ORIGINAL-URL:https://paraoa.co.nz
X-WR-CALDESC:Events for Parāoa Brewing Co. - Whangaparāoa, NZ
REFRESH-INTERVAL;VALUE=DURATION:PT1H
X-Robots-Tag:noindex
X-PUBLISHED-TTL:PT1H
BEGIN:VTIMEZONE
TZID:Pacific/Auckland
BEGIN:STANDARD
TZOFFSETFROM:+1300
TZOFFSETTO:+1200
TZNAME:NZST
DTSTART:20240406T140000
END:STANDARD
BEGIN:DAYLIGHT
TZOFFSETFROM:+1200
TZOFFSETTO:+1300
TZNAME:NZDT
DTSTART:20240928T140000
END:DAYLIGHT
BEGIN:STANDARD
TZOFFSETFROM:+1300
TZOFFSETTO:+1200
TZNAME:NZST
DTSTART:20250405T140000
END:STANDARD
BEGIN:DAYLIGHT
TZOFFSETFROM:+1200
TZOFFSETTO:+1300
TZNAME:NZDT
DTSTART:20250927T140000
END:DAYLIGHT
BEGIN:STANDARD
TZOFFSETFROM:+1300
TZOFFSETTO:+1200
TZNAME:NZST
DTSTART:20260404T140000
END:STANDARD
BEGIN:DAYLIGHT
TZOFFSETFROM:+1200
TZOFFSETTO:+1300
TZNAME:NZDT
DTSTART:20260926T140000
END:DAYLIGHT
END:VTIMEZONE
BEGIN:VEVENT
DTSTART;TZID=Pacific/Auckland:20250725T200000
DTEND;TZID=Pacific/Auckland:20250725T233000
DTSTAMP:20260423T060049
CREATED:20250611T072126Z
LAST-MODIFIED:20250611T072126Z
UID:9424-1753473600-1753486200@paraoa.co.nz
SUMMARY:RURAL RHYTHM CO-OP TAKEOVER AT PARAOA BREWING - 25TH JULY!
DESCRIPTION:RURAL RHYTHM CO-OP TAKEOVER AT PARAOA BREWING – 25TH JULY!\n\n\nGet ready for a night of grassroots energy and underground beats as Rural Rhythm Co‑op takes over the Parāoa taproom. Expect deep cuts in House\, Techno\, UK Garage\, Jungle\, and Drum & Bass\, curated by your favourite local selectors. \nFeatured DJs\n– DJ Pauly\, Mase‑On\, and Benno (Rural Rhythm residents) will be spinning vibes all night long—expect weighty bass drops and grooves that keep you moving through the evening. \nVibe & Atmosphere\nChanneling the same community-first spirit as our Puhoi launch – “A Night of Bass‑heavy Beats & Underground Vibes” —this takeover will bring electric energy to Parāoa’s relaxed gastropub setting. With craft beers on tap and fresh food on the go\, it’s the perfect mix of laid-back and lit. \nWhy You Should Come \n\nImmersive soundscape: Experience seamless DJ sets in a sweet venue.\nCraft beers & bites: Parāoa’s kitchen and brew team have you covered all night.\nGrassroots energy: Built around unity\, quality tunes\, and a love for the local scene.\n\nPLUS\nPauly and Mase On have been blowing up the local Matakana scene for the last couple of years now\, packing dancefloors with their high energy sets\, and have decided to come to Paraoa Brewing Co with their good mate Benno to share their passion for music and good times.) \nWhat to Bring\nJust bring your love for the music (BYO dance moves!). Grab your crew\, get your drinks\, and let loose. \nFinal Notes –\nFollow @ruralrhythmco_op on Instagram for updates and future gigs. \nJoin us for a night built from the ground up—good tunes\, good people\, and grassroots rhythms at Parāoa Brewing!\n\n\nTickets: Click here
URL:https://paraoa.co.nz/event/rural-rhythm-co-op-takeover-at-paraoa-brewing-25th-july/
ATTACH;FMTTYPE=image/png:https://paraoa.co.nz/wp-content/uploads/2025/06/image_2025-06-11_192016895.png
END:VEVENT
END:VCALENDAR