BEGIN:VCALENDAR
VERSION:2.0
PRODID:-//Parāoa Brewing Co. - Whangaparāoa, NZ - ECPv6.15.12.2//NONSGML v1.0//EN
CALSCALE:GREGORIAN
METHOD:PUBLISH
X-ORIGINAL-URL:https://paraoa.co.nz
X-WR-CALDESC:Events for Parāoa Brewing Co. - Whangaparāoa, NZ
REFRESH-INTERVAL;VALUE=DURATION:PT1H
X-Robots-Tag:noindex
X-PUBLISHED-TTL:PT1H
BEGIN:VTIMEZONE
TZID:Pacific/Auckland
BEGIN:STANDARD
TZOFFSETFROM:+1300
TZOFFSETTO:+1200
TZNAME:NZST
DTSTART:20240406T140000
END:STANDARD
BEGIN:DAYLIGHT
TZOFFSETFROM:+1200
TZOFFSETTO:+1300
TZNAME:NZDT
DTSTART:20240928T140000
END:DAYLIGHT
BEGIN:STANDARD
TZOFFSETFROM:+1300
TZOFFSETTO:+1200
TZNAME:NZST
DTSTART:20250405T140000
END:STANDARD
BEGIN:DAYLIGHT
TZOFFSETFROM:+1200
TZOFFSETTO:+1300
TZNAME:NZDT
DTSTART:20250927T140000
END:DAYLIGHT
BEGIN:STANDARD
TZOFFSETFROM:+1300
TZOFFSETTO:+1200
TZNAME:NZST
DTSTART:20260404T140000
END:STANDARD
BEGIN:DAYLIGHT
TZOFFSETFROM:+1200
TZOFFSETTO:+1300
TZNAME:NZDT
DTSTART:20260926T140000
END:DAYLIGHT
END:VTIMEZONE
BEGIN:VEVENT
DTSTART;TZID=Pacific/Auckland:20250726T180000
DTEND;TZID=Pacific/Auckland:20250726T223000
DTSTAMP:20260423T043536
CREATED:20250611T071812Z
LAST-MODIFIED:20250611T071812Z
UID:9418-1753552800-1753569000@paraoa.co.nz
SUMMARY:BROADWAY AND BEYOND ARDENT'S FUNDRAISING CONCERT - 26TH JULY
DESCRIPTION:BROADWAY AND BEYOND ARDENT’S FUNDRAISING CONCERT – 26TH JULY\nCome and enjoy a wonderful evening full of entertainment and best of all\, it is for a good cause!\nArdent’s fundraising concert titled “Broadway & Beyond” promises to be a lovely night out being entertained by talented performers treating you by singing some of the best loved and popular songs from well known musicals. \nThis will take you on a trip around the stages of the world including local favourites and artists. \nCome dressed up as your favourite musical show character and you might just win best dressed for the evening!\nAll welcome\, whether you dress up or dress down\, come support your local community theatre group so that they can continue bringing top shelf productions to the stage at Centrestage in Orewa.\nLet our local coasties show you their talent and what about you showing us yours! We are throwing in a great opportunity for audience participation and prizes for winners of the talent segment.\nNot only singing and dancing\, but fun silent auctions\, lucky dips and more! \nTickets: Click here
URL:https://paraoa.co.nz/event/broadway-and-beyond-ardents-fundraising-concert-26th-july/
ATTACH;FMTTYPE=image/png:https://paraoa.co.nz/wp-content/uploads/2025/06/image_2025-06-11_191523420.png
END:VEVENT
END:VCALENDAR