BEGIN:VCALENDAR
VERSION:2.0
PRODID:-//Parāoa Brewing Co. - Whangaparāoa, NZ - ECPv6.15.12.2//NONSGML v1.0//EN
CALSCALE:GREGORIAN
METHOD:PUBLISH
X-ORIGINAL-URL:https://paraoa.co.nz
X-WR-CALDESC:Events for Parāoa Brewing Co. - Whangaparāoa, NZ
REFRESH-INTERVAL;VALUE=DURATION:PT1H
X-Robots-Tag:noindex
X-PUBLISHED-TTL:PT1H
BEGIN:VTIMEZONE
TZID:Pacific/Auckland
BEGIN:STANDARD
TZOFFSETFROM:+1300
TZOFFSETTO:+1200
TZNAME:NZST
DTSTART:20240406T140000
END:STANDARD
BEGIN:DAYLIGHT
TZOFFSETFROM:+1200
TZOFFSETTO:+1300
TZNAME:NZDT
DTSTART:20240928T140000
END:DAYLIGHT
BEGIN:STANDARD
TZOFFSETFROM:+1300
TZOFFSETTO:+1200
TZNAME:NZST
DTSTART:20250405T140000
END:STANDARD
BEGIN:DAYLIGHT
TZOFFSETFROM:+1200
TZOFFSETTO:+1300
TZNAME:NZDT
DTSTART:20250927T140000
END:DAYLIGHT
BEGIN:STANDARD
TZOFFSETFROM:+1300
TZOFFSETTO:+1200
TZNAME:NZST
DTSTART:20260404T140000
END:STANDARD
BEGIN:DAYLIGHT
TZOFFSETFROM:+1200
TZOFFSETTO:+1300
TZNAME:NZDT
DTSTART:20260926T140000
END:DAYLIGHT
END:VTIMEZONE
BEGIN:VEVENT
DTSTART;TZID=Pacific/Auckland:20250731T193000
DTEND;TZID=Pacific/Auckland:20250731T223000
DTSTAMP:20260422T235039
CREATED:20250507T000242Z
LAST-MODIFIED:20250507T000242Z
UID:9314-1753990200-1754001000@paraoa.co.nz
SUMMARY:JARRED FELL A NIGHT OF MAGIC & COMEDY - 31ST JULY!
DESCRIPTION:JARRED FELL A NIGHT OF MAGIC & COMEDY – 31ST JULY!\nGet ready for a night of jaw-dropping magic and outrageous comedy as award-winning comedian magician Jarred Fell hits the stage at Paraoa Brewing Co on July 31st! Fresh off international tours and with a resume that includes TV appearances\, Las Vegas headlining gigs\, and semi-finalist status on NBC’s Bring The Funny\, Jarred blends razor-sharp wit with world-class sleight of hand in a show that’s as hilarious as it is mind-blowing. \nWhether he’s shocking celebrities like Jack Black and John Legend or captivating cruise ship crowds across the globe\, Jarred delivers a high-energy performance packed with edgy humour\, audience interaction\, and moments you’ll be talking about for weeks. \nDon’t miss this one-night-only event at one of the Hibiscus Coast’s best venues. Book early – this show will sell out fast! \nTickets: Click here
URL:https://paraoa.co.nz/event/jarred-fell-a-night-of-magic-comedy-31st-july/
ATTACH;FMTTYPE=image/jpeg:https://paraoa.co.nz/wp-content/uploads/2025/05/WhatsApp-Image-2025-04-29-at-20.46.08_79e58418.jpg
END:VEVENT
END:VCALENDAR