BEGIN:VCALENDAR
VERSION:2.0
PRODID:-//Parāoa Brewing Co. - Whangaparāoa, NZ - ECPv6.15.12.2//NONSGML v1.0//EN
CALSCALE:GREGORIAN
METHOD:PUBLISH
X-ORIGINAL-URL:https://paraoa.co.nz
X-WR-CALDESC:Events for Parāoa Brewing Co. - Whangaparāoa, NZ
REFRESH-INTERVAL;VALUE=DURATION:PT1H
X-Robots-Tag:noindex
X-PUBLISHED-TTL:PT1H
BEGIN:VTIMEZONE
TZID:Pacific/Auckland
BEGIN:STANDARD
TZOFFSETFROM:+1300
TZOFFSETTO:+1200
TZNAME:NZST
DTSTART:20240406T140000
END:STANDARD
BEGIN:DAYLIGHT
TZOFFSETFROM:+1200
TZOFFSETTO:+1300
TZNAME:NZDT
DTSTART:20240928T140000
END:DAYLIGHT
BEGIN:STANDARD
TZOFFSETFROM:+1300
TZOFFSETTO:+1200
TZNAME:NZST
DTSTART:20250405T140000
END:STANDARD
BEGIN:DAYLIGHT
TZOFFSETFROM:+1200
TZOFFSETTO:+1300
TZNAME:NZDT
DTSTART:20250927T140000
END:DAYLIGHT
BEGIN:STANDARD
TZOFFSETFROM:+1300
TZOFFSETTO:+1200
TZNAME:NZST
DTSTART:20260404T140000
END:STANDARD
BEGIN:DAYLIGHT
TZOFFSETFROM:+1200
TZOFFSETTO:+1300
TZNAME:NZDT
DTSTART:20260926T140000
END:DAYLIGHT
END:VTIMEZONE
BEGIN:VEVENT
DTSTART;TZID=Pacific/Auckland:20250802T180000
DTEND;TZID=Pacific/Auckland:20250802T233000
DTSTAMP:20260422T235200
CREATED:20250625T230653Z
LAST-MODIFIED:20250625T230653Z
UID:9444-1754157600-1754177400@paraoa.co.nz
SUMMARY:COUNTRY ROCK MINI FESTIVAL - 2ND AUG!
DESCRIPTION:COUNTRY ROCK MINI FESTIVAL – 2ND AUG!\nIts a Country-Rock Mini Festival on The Coast!!! Three Bands and a night of Country!!! \nMojo Crow – Mojo Crow is an Auckland based band\, who’s live shows radiate raw energy and good time vibes with their own eclectic mix of alt-country\, blues\, rock\, and reggae. \nThe band will perform some songs from their previously released album such as ‘Fly by Night’ and ‘The Badlands’\, also there will be a couple of extra surprises in their set. \nFollow them on Spotify\, and Instagram @mojo.crow \nThe Northern Outpost – The Northern Outpost band are a country quartet from Auckland that has been crafting soul-stirring melodies for over seven years. Their music takes listeners on a journey of joy and lament\, blending classic country roots with a modern edge. Their storytelling and sound will give you Fleetwood Mac vibes. \nThe Brendon Ham Band – Country music artists The Brendon Ham Band are regarded as the premier honky-tonk unit with their own brand of hard-hitting rockin’-country music and are embracing an ever-increasing reputation and popularity\, performing at a variety of shows\, festivals and events including the prestigious Kumeu Fire Brigade Hoedown Fundraiser. Although country music is the true spirit of the Brendon Ham Band\, each member contributes their own style and influences\, giving for an unforgettable dynamic show. Often asked who the biggest influences for the band are\, well it really is the honesty of a few generations of real music – our musical influences and heroes are many and spread across a range of genres. These dynamic New Zealand artists have deservedly earnt the respect and following of a growing fan base across the ages\, eager to enjoy the unique package that the Brendon Ham Band deliver. \nTickets: Click here
URL:https://paraoa.co.nz/event/country-rock-mini-festival-2nd-aug/
ATTACH;FMTTYPE=image/png:https://paraoa.co.nz/wp-content/uploads/2025/06/image_2025-06-26_110556438.png
END:VEVENT
END:VCALENDAR