BEGIN:VCALENDAR
VERSION:2.0
PRODID:-//Parāoa Brewing Co. - Whangaparāoa, NZ - ECPv6.15.12.2//NONSGML v1.0//EN
CALSCALE:GREGORIAN
METHOD:PUBLISH
X-ORIGINAL-URL:https://paraoa.co.nz
X-WR-CALDESC:Events for Parāoa Brewing Co. - Whangaparāoa, NZ
REFRESH-INTERVAL;VALUE=DURATION:PT1H
X-Robots-Tag:noindex
X-PUBLISHED-TTL:PT1H
BEGIN:VTIMEZONE
TZID:Pacific/Auckland
BEGIN:STANDARD
TZOFFSETFROM:+1300
TZOFFSETTO:+1200
TZNAME:NZST
DTSTART:20240406T140000
END:STANDARD
BEGIN:DAYLIGHT
TZOFFSETFROM:+1200
TZOFFSETTO:+1300
TZNAME:NZDT
DTSTART:20240928T140000
END:DAYLIGHT
BEGIN:STANDARD
TZOFFSETFROM:+1300
TZOFFSETTO:+1200
TZNAME:NZST
DTSTART:20250405T140000
END:STANDARD
BEGIN:DAYLIGHT
TZOFFSETFROM:+1200
TZOFFSETTO:+1300
TZNAME:NZDT
DTSTART:20250927T140000
END:DAYLIGHT
BEGIN:STANDARD
TZOFFSETFROM:+1300
TZOFFSETTO:+1200
TZNAME:NZST
DTSTART:20260404T140000
END:STANDARD
BEGIN:DAYLIGHT
TZOFFSETFROM:+1200
TZOFFSETTO:+1300
TZNAME:NZDT
DTSTART:20260926T140000
END:DAYLIGHT
END:VTIMEZONE
BEGIN:VEVENT
DTSTART;TZID=Pacific/Auckland:20250822T183000
DTEND;TZID=Pacific/Auckland:20250822T210000
DTSTAMP:20260422T235032
CREATED:20250722T081042Z
LAST-MODIFIED:20250722T081042Z
UID:9590-1755887400-1755896400@paraoa.co.nz
SUMMARY:THE AUCKLAND CEILI/ CEILIDH BAND - 22ND AUG!
DESCRIPTION:THE AUCKLAND CEILI/ CEILIDH BAND – 22ND AUG!\nDon’t miss this experience! \nExperience the magic of a Céilí (Irish)/ Cèilidh (Scottish) – Join us for a night of music\, dance\, and craic! \nWhat is it?\nAn evening of “Everyone’s in!” traditional Irish/ Scottish music and dancing\, where everyone can have a go! \nWhat’s the music?\nAuthentic live traditional sets. The rhythm and tunes of a live 5-piece folk band (traditional instruments including fiddle\, penny whistle\, flute\, and bodhrán) are sure you get your foot tapping and your heart pounding! Feel the energy and passion of the musicians as they bring heritage to life. \nWhat’s the dancing?\nInstructed\, but loose and joyous! Lively Group Dances: Dance (and onlookers\, too) the night away with traditional dances\, perfect for all ages and skill levels\, including a zero level! A dance caller will guide you through each step\, there are no wrong answers or wrong steps. Just wing it! You’ll be smiling and laughing as you stumble to find your way\, and then somehow\, it magically comes together! \nWho’s there?\nAll of ye\, together! A Family Friendly Evening\nA Friendly Atmosphere where everyone can lose their shyness (if they have it) or express their playfulness because everyone’s in it together\, all learning and having a great time. Some may have been before\, and you’ll find there’s no shortage of helpful advice; some of it may even be correct \nTickets: Click here
URL:https://paraoa.co.nz/event/the-auckland-ceili-ceilidh-band-22nd-aug/
ATTACH;FMTTYPE=image/png:https://paraoa.co.nz/wp-content/uploads/2025/07/image_2025-07-22_201008294.png
END:VEVENT
END:VCALENDAR