BEGIN:VCALENDAR
VERSION:2.0
PRODID:-//Parāoa Brewing Co. - Whangaparāoa, NZ - ECPv6.15.12.2//NONSGML v1.0//EN
CALSCALE:GREGORIAN
METHOD:PUBLISH
X-ORIGINAL-URL:https://paraoa.co.nz
X-WR-CALDESC:Events for Parāoa Brewing Co. - Whangaparāoa, NZ
REFRESH-INTERVAL;VALUE=DURATION:PT1H
X-Robots-Tag:noindex
X-PUBLISHED-TTL:PT1H
BEGIN:VTIMEZONE
TZID:Pacific/Auckland
BEGIN:STANDARD
TZOFFSETFROM:+1300
TZOFFSETTO:+1200
TZNAME:NZST
DTSTART:20240406T140000
END:STANDARD
BEGIN:DAYLIGHT
TZOFFSETFROM:+1200
TZOFFSETTO:+1300
TZNAME:NZDT
DTSTART:20240928T140000
END:DAYLIGHT
BEGIN:STANDARD
TZOFFSETFROM:+1300
TZOFFSETTO:+1200
TZNAME:NZST
DTSTART:20250405T140000
END:STANDARD
BEGIN:DAYLIGHT
TZOFFSETFROM:+1200
TZOFFSETTO:+1300
TZNAME:NZDT
DTSTART:20250927T140000
END:DAYLIGHT
BEGIN:STANDARD
TZOFFSETFROM:+1300
TZOFFSETTO:+1200
TZNAME:NZST
DTSTART:20260404T140000
END:STANDARD
BEGIN:DAYLIGHT
TZOFFSETFROM:+1200
TZOFFSETTO:+1300
TZNAME:NZDT
DTSTART:20260926T140000
END:DAYLIGHT
END:VTIMEZONE
BEGIN:VEVENT
DTSTART;TZID=Pacific/Auckland:20250829T190000
DTEND;TZID=Pacific/Auckland:20250829T230000
DTSTAMP:20260422T235040
CREATED:20250705T061935Z
LAST-MODIFIED:20250705T061935Z
UID:9569-1756494000-1756508400@paraoa.co.nz
SUMMARY:BOOGIE OOGIE BINGO THE 80s/90s EDITION - 29TH AUG!
DESCRIPTION:BOOGIE OOGIE BINGO THE 80s/90s EDITION – 29TH AUG!\nCome join us for a fun night of Music Bingo – this time it’s the 80s/90s edition – followed by a dance party playing all of those 80/s90s tunes that you know and love to dance to! \nThere will be prizes for the best 80s/90s outfits! \nSee you there! \nTickets: Click here
URL:https://paraoa.co.nz/event/boogie-oogie-bingo-the-80s-90s-edition-29th-aug/
ATTACH;FMTTYPE=image/png:https://paraoa.co.nz/wp-content/uploads/2025/07/image_2025-07-05_181805021.png
END:VEVENT
END:VCALENDAR