BEGIN:VCALENDAR
VERSION:2.0
PRODID:-//Parāoa Brewing Co. - Whangaparāoa, NZ - ECPv6.15.12.2//NONSGML v1.0//EN
CALSCALE:GREGORIAN
METHOD:PUBLISH
X-ORIGINAL-URL:https://paraoa.co.nz
X-WR-CALDESC:Events for Parāoa Brewing Co. - Whangaparāoa, NZ
REFRESH-INTERVAL;VALUE=DURATION:PT1H
X-Robots-Tag:noindex
X-PUBLISHED-TTL:PT1H
BEGIN:VTIMEZONE
TZID:Pacific/Auckland
BEGIN:STANDARD
TZOFFSETFROM:+1300
TZOFFSETTO:+1200
TZNAME:NZST
DTSTART:20240406T140000
END:STANDARD
BEGIN:DAYLIGHT
TZOFFSETFROM:+1200
TZOFFSETTO:+1300
TZNAME:NZDT
DTSTART:20240928T140000
END:DAYLIGHT
BEGIN:STANDARD
TZOFFSETFROM:+1300
TZOFFSETTO:+1200
TZNAME:NZST
DTSTART:20250405T140000
END:STANDARD
BEGIN:DAYLIGHT
TZOFFSETFROM:+1200
TZOFFSETTO:+1300
TZNAME:NZDT
DTSTART:20250927T140000
END:DAYLIGHT
BEGIN:STANDARD
TZOFFSETFROM:+1300
TZOFFSETTO:+1200
TZNAME:NZST
DTSTART:20260404T140000
END:STANDARD
BEGIN:DAYLIGHT
TZOFFSETFROM:+1200
TZOFFSETTO:+1300
TZNAME:NZDT
DTSTART:20260926T140000
END:DAYLIGHT
END:VTIMEZONE
BEGIN:VEVENT
DTSTART;TZID=Pacific/Auckland:20250830T180000
DTEND;TZID=Pacific/Auckland:20250830T213000
DTSTAMP:20260422T235040
CREATED:20250702T084614Z
LAST-MODIFIED:20250702T084614Z
UID:9470-1756576800-1756589400@paraoa.co.nz
SUMMARY:EARLY NIGHTS WITH WHITE CHAPEL JAK - 30TH AUG!
DESCRIPTION:EARLY NIGHTS WITH WHITE CHAPEL JAK – 30TH AUG!\nEarly Nights with White Chapel Jak! We are hitting the road for winter and we want you with us! \nBeloved for their feel-good grooves\, powerhouse vocals\, and contagious charisma\, White Chapel Jak are taking their signature sound on the road—with lights out by ten. \nThis tour is tailor-made for music lovers who want all the energy and none of the sleep deprivation. Expect high vibes\, wild singalongs\, and an early bedtime you’ll actually be excited about. \nThis tour promises a night of unforgettable music\, raw emotion\, and the kind of connection that only happens when the lights go down and the volume cranks up. Whether you’re a longtime fan or discovering them for the first time\, come be a part of the noise. \nCome for the party\, stay for the pyjamas. \nTickets: Click here
URL:https://paraoa.co.nz/event/early-nights-with-white-chapel-jak-30th-aug/
ATTACH;FMTTYPE=image/png:https://paraoa.co.nz/wp-content/uploads/2025/07/image_2025-07-02_204543332.png
END:VEVENT
END:VCALENDAR