BEGIN:VCALENDAR
VERSION:2.0
PRODID:-//Parāoa Brewing Co. - Whangaparāoa, NZ - ECPv6.15.12.2//NONSGML v1.0//EN
CALSCALE:GREGORIAN
METHOD:PUBLISH
X-WR-CALNAME:Parāoa Brewing Co. - Whangaparāoa, NZ
X-ORIGINAL-URL:https://paraoa.co.nz
X-WR-CALDESC:Events for Parāoa Brewing Co. - Whangaparāoa, NZ
REFRESH-INTERVAL;VALUE=DURATION:PT1H
X-Robots-Tag:noindex
X-PUBLISHED-TTL:PT1H
BEGIN:VTIMEZONE
TZID:Pacific/Auckland
BEGIN:STANDARD
TZOFFSETFROM:+1300
TZOFFSETTO:+1200
TZNAME:NZST
DTSTART:20240406T140000
END:STANDARD
BEGIN:DAYLIGHT
TZOFFSETFROM:+1200
TZOFFSETTO:+1300
TZNAME:NZDT
DTSTART:20240928T140000
END:DAYLIGHT
BEGIN:STANDARD
TZOFFSETFROM:+1300
TZOFFSETTO:+1200
TZNAME:NZST
DTSTART:20250405T140000
END:STANDARD
BEGIN:DAYLIGHT
TZOFFSETFROM:+1200
TZOFFSETTO:+1300
TZNAME:NZDT
DTSTART:20250927T140000
END:DAYLIGHT
BEGIN:STANDARD
TZOFFSETFROM:+1300
TZOFFSETTO:+1200
TZNAME:NZST
DTSTART:20260404T140000
END:STANDARD
BEGIN:DAYLIGHT
TZOFFSETFROM:+1200
TZOFFSETTO:+1300
TZNAME:NZDT
DTSTART:20260926T140000
END:DAYLIGHT
END:VTIMEZONE
BEGIN:VEVENT
DTSTART;TZID=Pacific/Auckland:20250912T200000
DTEND;TZID=Pacific/Auckland:20250912T230000
DTSTAMP:20260423T013605
CREATED:20250403T033501Z
LAST-MODIFIED:20250403T033501Z
UID:9159-1757707200-1757718000@paraoa.co.nz
SUMMARY:SEVENTH WONDER PERFORMS FLEETWOOD MAC - 12TH SEP!
DESCRIPTION:SEVENTH WONDER PERFORMS FLEETWOOD MAC – 12TH SEP!\nSEVENTH WONDER Performs FLEETWOOD MAC\n50th Anniversary of Fleetwood Mac’s Classic Line Up \nExperience one of the world’s premier celebrations of Fleetwood Mac with “Seventh Wonder.” This electrifying show brings the full “Rumours” album to life\, featuring classics like “Go Your Own Way\,” “Dreams\,” and “Don’t Stop.” This All – Star band mesmerizes with Fleetwood Mac’s greatest hits including “Little Lies\,” “Gypsy\,” and “Say You Love Me.”\nAs one of the most influential bands in rock history\, Fleetwood Mac’s legacy spans over 100 million records sold worldwide\, with their 1977 masterpiece “Rumours” achieving over 45 million copies sold. Bloom’s dedication and exquisite vocal talent ensure an unforgettable evening\, honoring Fleetwood Mac’s iconic sound and emotional depth. \nDon’t miss this extraordinary opportunity to witness the magic of Fleetwood Mac’s timeless music brought to life by one of Australia’s most applauded vocal talents ” Bloom”\, and her incredible band\, featuring musicians from Human Nature\, 1927\, Jon English\, The Angels and more. \nDescribed as “Sonically Perfect” and “As Good As It Gets”\, No other show comes close. \n“An experience in evocation rather than emulation\, Seventh Wonder is a celebration of Fleetwood Mac that rises above mere tribute. With an intent on capturing the textures of the band’s songs and sounds and the range of emotions within\, Bloom adds Fleetwood Mac to her sonic gallery of world class shows. Indeed\, with Bloom’s stunning vocals leading the way and leaving audiences captivated all around the country\, Seventh Wonder match the beauty again”.\n– Bob Gordon (Rolling Stone / The Guardian) \nTickets: Click here
URL:https://paraoa.co.nz/event/seventh-wonder-performs-fleetwood-mac-12th-sep/
ATTACH;FMTTYPE=image/png:https://paraoa.co.nz/wp-content/uploads/2025/04/A4_BAND_ONLY_594_x_841_mm_297_x_420_mm_210_x_297_mm_11-1.png
END:VEVENT
END:VCALENDAR