BEGIN:VCALENDAR
VERSION:2.0
PRODID:-//Parāoa Brewing Co. - Whangaparāoa, NZ - ECPv6.15.12.2//NONSGML v1.0//EN
CALSCALE:GREGORIAN
METHOD:PUBLISH
X-ORIGINAL-URL:https://paraoa.co.nz
X-WR-CALDESC:Events for Parāoa Brewing Co. - Whangaparāoa, NZ
REFRESH-INTERVAL;VALUE=DURATION:PT1H
X-Robots-Tag:noindex
X-PUBLISHED-TTL:PT1H
BEGIN:VTIMEZONE
TZID:Pacific/Auckland
BEGIN:STANDARD
TZOFFSETFROM:+1300
TZOFFSETTO:+1200
TZNAME:NZST
DTSTART:20240406T140000
END:STANDARD
BEGIN:DAYLIGHT
TZOFFSETFROM:+1200
TZOFFSETTO:+1300
TZNAME:NZDT
DTSTART:20240928T140000
END:DAYLIGHT
BEGIN:STANDARD
TZOFFSETFROM:+1300
TZOFFSETTO:+1200
TZNAME:NZST
DTSTART:20250405T140000
END:STANDARD
BEGIN:DAYLIGHT
TZOFFSETFROM:+1200
TZOFFSETTO:+1300
TZNAME:NZDT
DTSTART:20250927T140000
END:DAYLIGHT
BEGIN:STANDARD
TZOFFSETFROM:+1300
TZOFFSETTO:+1200
TZNAME:NZST
DTSTART:20260404T140000
END:STANDARD
BEGIN:DAYLIGHT
TZOFFSETFROM:+1200
TZOFFSETTO:+1300
TZNAME:NZDT
DTSTART:20260926T140000
END:DAYLIGHT
END:VTIMEZONE
BEGIN:VEVENT
DTSTART;TZID=Pacific/Auckland:20250919T083000
DTEND;TZID=Pacific/Auckland:20250919T230000
DTSTAMP:20260423T012711
CREATED:20250901T051648Z
LAST-MODIFIED:20250901T051648Z
UID:9634-1758270600-1758322800@paraoa.co.nz
SUMMARY:THE PEOPLE/TEXT2SPEECH/VANDAL - 19TH SEP!
DESCRIPTION:THE PEOPLE/TEXT2SPEECH/VANDAL – 19TH SEP!\nThe People \nThe People is a five-piece rock band from North Auckland\, aged 16–18\, making waves in the New Zealand music scene with their explosive live performances and powerful sound. Fronted by Sienna Stevenson (lead vocals)\, with Liam Aalders (lead guitar)\, Nick Williams (rhythm guitar)\,\nJess Quayle (bass)\, and Caleb Gardner (drums)\, the band combines tight musicianship with undeniable energy on stage. \nTheir original music blends alternative hard rock and pop rock\, alongside an impressive catalogue of covers that spans all rock genres. Whether delivering heavy riffs or recognizable songs\, The People bring a versatility that keeps every crowd engaged from the first song to the last. \nIn the past few years of being together\, the band has reached significant milestones. They’ve played shows alongside established acts such as Automatic 80s\, Wheres Jai\, and Fan Club\, proving they can hold their own on stages with seasoned performers. In 2024\, they became the only under-18 band to reach the Auckland finals of Battle of the Bands\, a major achievement that set them apart as one of the country’s most promising young groups. \nMost recently\, just last month\, The People broke through on a national level\, placing in the Top 20 bands across over 900 bands in New Zealand at Smokefree Rockquest 2025. This recognition cemented their reputation as a serious force in the next generation of rock\, showcasing both their songwriting talent and their live performance strength. \nKeep an eye out for The People at Paraoa Brewing on the 19th of September\, where they play in an epic lineup of bands. \nText 2 Speech \nText2Speech is an alt/hard rock band from Auckland\, New Zealand. Inspired by the likes of The Strokes and Car Seat Headrest\, and with sharp\, melodic solos reminiscent of Ritchie Blackmore\, Text2Speech\ncombines the sounds of classic hard rock with some alternative and pop twists. \nVandal \nVandal has officially been together one year and is made up of rhythm guitarist Albie Larsen\, bassist Sebastian Barspul\, lead guitarist Luka Petreski\, drummer Samuel King\, and singer Sienna Fitzgerald. \nThey have competed in competitions including Rockquest and New Found Sound\, but also perform at casual gigs. They play covers and write their own music\, preferring alternative metal. Vandal were Rockquest finalists and won the New Found Sound regionals. \nTickets: Click here
URL:https://paraoa.co.nz/event/the-people-text2speech-vandal-19th-sep/
ATTACH;FMTTYPE=image/png:https://paraoa.co.nz/wp-content/uploads/2025/08/19th_September_Gig-2-min1.png
END:VEVENT
END:VCALENDAR