BEGIN:VCALENDAR
VERSION:2.0
PRODID:-//Parāoa Brewing Co. - Whangaparāoa, NZ - ECPv6.15.12.2//NONSGML v1.0//EN
CALSCALE:GREGORIAN
METHOD:PUBLISH
X-WR-CALNAME:Parāoa Brewing Co. - Whangaparāoa, NZ
X-ORIGINAL-URL:https://paraoa.co.nz
X-WR-CALDESC:Events for Parāoa Brewing Co. - Whangaparāoa, NZ
REFRESH-INTERVAL;VALUE=DURATION:PT1H
X-Robots-Tag:noindex
X-PUBLISHED-TTL:PT1H
BEGIN:VTIMEZONE
TZID:Pacific/Auckland
BEGIN:STANDARD
TZOFFSETFROM:+1300
TZOFFSETTO:+1200
TZNAME:NZST
DTSTART:20240406T140000
END:STANDARD
BEGIN:DAYLIGHT
TZOFFSETFROM:+1200
TZOFFSETTO:+1300
TZNAME:NZDT
DTSTART:20240928T140000
END:DAYLIGHT
BEGIN:STANDARD
TZOFFSETFROM:+1300
TZOFFSETTO:+1200
TZNAME:NZST
DTSTART:20250405T140000
END:STANDARD
BEGIN:DAYLIGHT
TZOFFSETFROM:+1200
TZOFFSETTO:+1300
TZNAME:NZDT
DTSTART:20250927T140000
END:DAYLIGHT
BEGIN:STANDARD
TZOFFSETFROM:+1300
TZOFFSETTO:+1200
TZNAME:NZST
DTSTART:20260404T140000
END:STANDARD
BEGIN:DAYLIGHT
TZOFFSETFROM:+1200
TZOFFSETTO:+1300
TZNAME:NZDT
DTSTART:20260926T140000
END:DAYLIGHT
END:VTIMEZONE
BEGIN:VEVENT
DTSTART;TZID=Pacific/Auckland:20250920T200000
DTEND;TZID=Pacific/Auckland:20250920T230000
DTSTAMP:20260423T012431
CREATED:20250702T083947Z
LAST-MODIFIED:20250702T083947Z
UID:9461-1758398400-1758409200@paraoa.co.nz
SUMMARY:AUTOMATIC 80'S - 20TH SEP!
DESCRIPTION:AUTOMATIC 80’S – 20TH SEP!\nGet ready to relive the magic of the ultimate decade with Automatic 80s — Aotearoa New Zealand’s heavyweights of the live 80s scene! With a reputation for packing out venues across the country\, Automatic 80s deliver all the biggest hits from the era of neon\, big hair\, and unforgettable anthems. \nFronted by powerhouse vocalists and backed by world-class musicians\, every performance is a high-energy\, nostalgic trip back in time. Whether you’re an 80s original or just discovering the decade’s best music\, Automatic 80s guarantee a night of non-stop singalongs\, dancing\, and nostalgia. \nFormed by musicians who have been bringing the spirit of the 80s to life since the decade itself\, Automatic 80s have evolved through the years but have always stayed true to the sounds that defined a generation. \nWith roots that trace right back to the original era\, their deep connection to the genre shines through every authentic performance. It’s more than a show — it’s a celebration of everything that made the 80s iconic. Don’t miss your chance to experience the magic live! \nGA tickets on sale from $39 plus BF \nTickets: Click here
URL:https://paraoa.co.nz/event/automatic-80s-20th-sep/
ATTACH;FMTTYPE=image/png:https://paraoa.co.nz/wp-content/uploads/2025/07/image_2025-07-02_203841834.png
END:VEVENT
END:VCALENDAR