BEGIN:VCALENDAR
VERSION:2.0
PRODID:-//Parāoa Brewing Co. - Whangaparāoa, NZ - ECPv6.15.12.2//NONSGML v1.0//EN
CALSCALE:GREGORIAN
METHOD:PUBLISH
X-ORIGINAL-URL:https://paraoa.co.nz
X-WR-CALDESC:Events for Parāoa Brewing Co. - Whangaparāoa, NZ
REFRESH-INTERVAL;VALUE=DURATION:PT1H
X-Robots-Tag:noindex
X-PUBLISHED-TTL:PT1H
BEGIN:VTIMEZONE
TZID:Pacific/Auckland
BEGIN:STANDARD
TZOFFSETFROM:+1300
TZOFFSETTO:+1200
TZNAME:NZST
DTSTART:20240406T140000
END:STANDARD
BEGIN:DAYLIGHT
TZOFFSETFROM:+1200
TZOFFSETTO:+1300
TZNAME:NZDT
DTSTART:20240928T140000
END:DAYLIGHT
BEGIN:STANDARD
TZOFFSETFROM:+1300
TZOFFSETTO:+1200
TZNAME:NZST
DTSTART:20250405T140000
END:STANDARD
BEGIN:DAYLIGHT
TZOFFSETFROM:+1200
TZOFFSETTO:+1300
TZNAME:NZDT
DTSTART:20250927T140000
END:DAYLIGHT
BEGIN:STANDARD
TZOFFSETFROM:+1300
TZOFFSETTO:+1200
TZNAME:NZST
DTSTART:20260404T140000
END:STANDARD
BEGIN:DAYLIGHT
TZOFFSETFROM:+1200
TZOFFSETTO:+1300
TZNAME:NZDT
DTSTART:20260926T140000
END:DAYLIGHT
END:VTIMEZONE
BEGIN:VEVENT
DTSTART;TZID=Pacific/Auckland:20251114T183000
DTEND;TZID=Pacific/Auckland:20251114T210000
DTSTAMP:20260423T045101
CREATED:20251022T061247Z
LAST-MODIFIED:20251022T061247Z
UID:9697-1763145000-1763154000@paraoa.co.nz
SUMMARY:AUCKLAND CEILI/CEILIDH BAND/DANCE NIGHT - 14TH NOV!
DESCRIPTION:AUCKLAND CEILI/CEILIDH BAND/DANCE NIGHT – 14TH NOV!\nGet ready for a foot-stomping\, family-friendly night of traditional Celtic music and dancing! The Auckland Céilí/Cèilidh Band brings the spirit of Ireland and Scotland to Whangaparāoa with live tunes and easy-to-follow group dances for all ages and abilities.\nWhether you’re a seasoned dancer or just curious to try\, this event is all about joy\, connection\, and rhythm. No experience needed—just bring your energy and a smile. \nHosted at Parāoa Brewing Co.\, with local brews and refreshments available throughout the evening.\nWhat to expect: \nLive Irish & Scottish music from Auckland’s leading Céilí/Cèilidh band\nInclusive dancing—everyone joins in\nWelcoming atmosphere for families\, kids\, and newcomers\nAffordable ticketing\nCraft beer and food available on site \nCome dance\, laugh\, and celebrate Celtic culture in a relaxed\, vibrant setting. It’s the kind of night that brings people together—don’t miss it! \nTickets: Adults $20 | Kids under 12 $5 \nTickets: Click here
URL:https://paraoa.co.nz/event/auckland-ceili-ceilidh-band-dance-night-14th-nov/
ATTACH;FMTTYPE=image/png:https://paraoa.co.nz/wp-content/uploads/2025/10/image_2025-10-22_191013671.png
END:VEVENT
END:VCALENDAR