BEGIN:VCALENDAR
VERSION:2.0
PRODID:-//Parāoa Brewing Co. - Whangaparāoa, NZ - ECPv6.15.12.2//NONSGML v1.0//EN
CALSCALE:GREGORIAN
METHOD:PUBLISH
X-WR-CALNAME:Parāoa Brewing Co. - Whangaparāoa, NZ
X-ORIGINAL-URL:https://paraoa.co.nz
X-WR-CALDESC:Events for Parāoa Brewing Co. - Whangaparāoa, NZ
REFRESH-INTERVAL;VALUE=DURATION:PT1H
X-Robots-Tag:noindex
X-PUBLISHED-TTL:PT1H
BEGIN:VTIMEZONE
TZID:Pacific/Auckland
BEGIN:STANDARD
TZOFFSETFROM:+1300
TZOFFSETTO:+1200
TZNAME:NZST
DTSTART:20240406T140000
END:STANDARD
BEGIN:DAYLIGHT
TZOFFSETFROM:+1200
TZOFFSETTO:+1300
TZNAME:NZDT
DTSTART:20240928T140000
END:DAYLIGHT
BEGIN:STANDARD
TZOFFSETFROM:+1300
TZOFFSETTO:+1200
TZNAME:NZST
DTSTART:20250405T140000
END:STANDARD
BEGIN:DAYLIGHT
TZOFFSETFROM:+1200
TZOFFSETTO:+1300
TZNAME:NZDT
DTSTART:20250927T140000
END:DAYLIGHT
BEGIN:STANDARD
TZOFFSETFROM:+1300
TZOFFSETTO:+1200
TZNAME:NZST
DTSTART:20260404T140000
END:STANDARD
BEGIN:DAYLIGHT
TZOFFSETFROM:+1200
TZOFFSETTO:+1300
TZNAME:NZDT
DTSTART:20260926T140000
END:DAYLIGHT
END:VTIMEZONE
BEGIN:VEVENT
DTSTART;TZID=Pacific/Auckland:20251122T200000
DTEND;TZID=Pacific/Auckland:20251122T233000
DTSTAMP:20260423T044918
CREATED:20250625T230902Z
LAST-MODIFIED:20250625T230902Z
UID:9447-1763841600-1763854200@paraoa.co.nz
SUMMARY:THE EAGLES EXPERIENCE MOTEL CALIFORNIA - 22ND NOV!
DESCRIPTION:THE EAGLES EXPERIENCE MOTEL CALIFORNIA – 22ND NOV!\nThe Eagles Experience is coming to the peninsula! The Premier Eagles Tribute Experience\, Motel California\, are recognised for accomplished & highly skilled musicianship. Smooth 5 part harmonies & spine tingling guitar riffs just like the originals. Thrilling 3 hr show that’s earn’t 5 star reviews for over 10 yrs. \nKicking off with the harmonically mesmerising accapella Seven Bridges Road before launching into a string of The Eagles most popular hits including Hotel California\, Take It Easy\, One of These Nights\, Tequila Sunrise\, Desperado\, Heartache Tonight\, Life in the Fast Lane\, Witchy Woman\, New Kid In Town\, Take it to the Limit\, Lyin’ Eyes\, Get Over It\, I Can’t Tell You Why\, Best of My Love and more. The evening concludes with an explosive rendition of Funk 49 – that will leave a permanent smile on your dial \nDon’t be disappointed by inferior copycat shows\, Motel California doesn’t disappoint. \nHere’s what our fans have to say: \n“What a great night last night!\nI’ve seen a lot of bands over the years\, original\, half original and tribute and you were up there with the best. ” \n“Your musicianship was brilliant. It sounded so authentic. The icing on the cake was your singing harmony. So many tributes are let down by the singing.” \nSecure your tickets now. Door sales only if not sold out prior. Full refund guarantee in case of any unforseen cancellation of the event. \nTickets: Click here
URL:https://paraoa.co.nz/event/the-eagles-experience-motel-california-22nd-nov/
ATTACH;FMTTYPE=image/png:https://paraoa.co.nz/wp-content/uploads/2025/06/image_2025-06-26_110758495.png
END:VEVENT
END:VCALENDAR