BEGIN:VCALENDAR
VERSION:2.0
PRODID:-//Parāoa Brewing Co. - Whangaparāoa, NZ - ECPv6.15.12.2//NONSGML v1.0//EN
CALSCALE:GREGORIAN
METHOD:PUBLISH
X-WR-CALNAME:Parāoa Brewing Co. - Whangaparāoa, NZ
X-ORIGINAL-URL:https://paraoa.co.nz
X-WR-CALDESC:Events for Parāoa Brewing Co. - Whangaparāoa, NZ
REFRESH-INTERVAL;VALUE=DURATION:PT1H
X-Robots-Tag:noindex
X-PUBLISHED-TTL:PT1H
BEGIN:VTIMEZONE
TZID:Pacific/Auckland
BEGIN:STANDARD
TZOFFSETFROM:+1300
TZOFFSETTO:+1200
TZNAME:NZST
DTSTART:20240406T140000
END:STANDARD
BEGIN:DAYLIGHT
TZOFFSETFROM:+1200
TZOFFSETTO:+1300
TZNAME:NZDT
DTSTART:20240928T140000
END:DAYLIGHT
BEGIN:STANDARD
TZOFFSETFROM:+1300
TZOFFSETTO:+1200
TZNAME:NZST
DTSTART:20250405T140000
END:STANDARD
BEGIN:DAYLIGHT
TZOFFSETFROM:+1200
TZOFFSETTO:+1300
TZNAME:NZDT
DTSTART:20250927T140000
END:DAYLIGHT
BEGIN:STANDARD
TZOFFSETFROM:+1300
TZOFFSETTO:+1200
TZNAME:NZST
DTSTART:20260404T140000
END:STANDARD
BEGIN:DAYLIGHT
TZOFFSETFROM:+1200
TZOFFSETTO:+1300
TZNAME:NZDT
DTSTART:20260926T140000
END:DAYLIGHT
END:VTIMEZONE
BEGIN:VEVENT
DTSTART;TZID=Pacific/Auckland:20251123T140000
DTEND;TZID=Pacific/Auckland:20251123T170000
DTSTAMP:20260423T044933
CREATED:20250702T084226Z
LAST-MODIFIED:20250702T084226Z
UID:9464-1763906400-1763917200@paraoa.co.nz
SUMMARY:BARBIE'S COUNTRY ROCK SHOW - 23RD NOV!
DESCRIPTION:BARBIE’S COUNTRY ROCK SHOW – 23RD NOV!\nBy the time the first strings are strummed and the bow hits the fiddle at Paraoa Brewing Co. on Sunday\, 23rd November 2025\, it’ll be clear – country rock is alive and kicking in Whangaparaoa\, and it’s being led by none other than Barbie Davidson and Nick Jones. \nBarbie Davidson\, a shining star in New Zealand’s Country music scene\, first stole hearts with her 2006 album Two Hearts\, an authentic collection of country anthems and tender ballads that still resonates with fans today. Re-released with a refreshed cover\, Two Hearts is available now on Bandcamp.com for those ready to rediscover (or fall in love for the first time)\, with her sound. \nJoining Barbie on stage is virtuosic violinist Nick Jones\, a performer whose fiery fiddle work\, adds depth\, flair\, and toe-tapping energy to every song. Together\, Barbie and Nick perform as a dynamic duo\, blending heartfelt harmonies\, driving rhythms\, and old-school country soul into an unforgettable live experience. \nTheir upcoming show at Paraoa Brewing Co. is a lot more than a just a concert\, it’s a celebration of Kiwi Country spirit. With a special appearance from the Homegrown Line Dancing Club\, this show will not only entertain but get audiences involved too. These dancers won’t just be performing\, they’ll be inviting the audience to join them on the floor\, turning the venue into a joyous\, boots-and-all country rock party. \nThe event is proudly presented by GAP Radio\, Whangaparaoa’s home of community-driven audio streaming and Barbie’s official promoters. GAP Radio has been championing Barbie’s music across the Internet and now brings that energy straight to the stage. \nTickets: Click here
URL:https://paraoa.co.nz/event/barbies-country-rock-show-23rd-nov/
ATTACH;FMTTYPE=image/png:https://paraoa.co.nz/wp-content/uploads/2025/07/image_2025-07-02_204057027.png
END:VEVENT
END:VCALENDAR