BEGIN:VCALENDAR
VERSION:2.0
PRODID:-//Parāoa Brewing Co. - Whangaparāoa, NZ - ECPv6.15.12.2//NONSGML v1.0//EN
CALSCALE:GREGORIAN
METHOD:PUBLISH
X-WR-CALNAME:Parāoa Brewing Co. - Whangaparāoa, NZ
X-ORIGINAL-URL:https://paraoa.co.nz
X-WR-CALDESC:Events for Parāoa Brewing Co. - Whangaparāoa, NZ
REFRESH-INTERVAL;VALUE=DURATION:PT1H
X-Robots-Tag:noindex
X-PUBLISHED-TTL:PT1H
BEGIN:VTIMEZONE
TZID:Pacific/Auckland
BEGIN:STANDARD
TZOFFSETFROM:+1300
TZOFFSETTO:+1200
TZNAME:NZST
DTSTART:20240406T140000
END:STANDARD
BEGIN:DAYLIGHT
TZOFFSETFROM:+1200
TZOFFSETTO:+1300
TZNAME:NZDT
DTSTART:20240928T140000
END:DAYLIGHT
BEGIN:STANDARD
TZOFFSETFROM:+1300
TZOFFSETTO:+1200
TZNAME:NZST
DTSTART:20250405T140000
END:STANDARD
BEGIN:DAYLIGHT
TZOFFSETFROM:+1200
TZOFFSETTO:+1300
TZNAME:NZDT
DTSTART:20250927T140000
END:DAYLIGHT
BEGIN:STANDARD
TZOFFSETFROM:+1300
TZOFFSETTO:+1200
TZNAME:NZST
DTSTART:20260404T140000
END:STANDARD
BEGIN:DAYLIGHT
TZOFFSETFROM:+1200
TZOFFSETTO:+1300
TZNAME:NZDT
DTSTART:20260926T140000
END:DAYLIGHT
END:VTIMEZONE
BEGIN:VEVENT
DTSTART;TZID=Pacific/Auckland:20251130T133000
DTEND;TZID=Pacific/Auckland:20251130T153000
DTSTAMP:20260423T044933
CREATED:20250703T022054Z
LAST-MODIFIED:20250703T022054Z
UID:9506-1764509400-1764516600@paraoa.co.nz
SUMMARY:SUNDAY SALSA - 30TH NOV!
DESCRIPTION:SUNDAY SALSA – 30TH NOV!\n 
URL:https://paraoa.co.nz/event/sunday-salsa-30th-nov/
ATTACH;FMTTYPE=image/jpeg:https://paraoa.co.nz/wp-content/uploads/2025/07/WhatsApp-Image-2025-06-24-at-09.53.45_a18fabbc.jpg
END:VEVENT
BEGIN:VEVENT
DTSTART;TZID=Pacific/Auckland:20251130T140000
DTEND;TZID=Pacific/Auckland:20251130T160000
DTSTAMP:20260423T044933
CREATED:20251101T035350Z
LAST-MODIFIED:20251101T035350Z
UID:9705-1764511200-1764518400@paraoa.co.nz
SUMMARY:GJAZZ 5 ALGERIA & INDIA FUSION - 30TH NOV!
DESCRIPTION:GJAZZ 5 ALGERIA & INDIA FUSION – 30TH NOV!\nGjazz5 – Algeria/India Fusion Project taps into a rarely explored area of music fusion between some of the rhythmically richest cultures on this planet\, India and Algeria. \nProject initiator Olivier Holland\, a familiar face on the Auckland scene\, is bringing in from overseas the accomplished world music/jazz expert Djamel Laroussi from Algeria on guitar and vocals. Manjit Singh\, originally from India but residing in Papatoetoe\, is the Indian music expert in this mix and well known in New Zealand as tabla player ‘par excellence’. Olivier Holland on bass and Stephen Thomas on drums are completing the lineup. \nA mind-bobbling mix of Indian and Algerian rhythms in a framework of world music and jazz\, this evening will be an event like no other\, presenting a musical mix that is like no other; a celebration of culture\, rhythm\, friendship and new music. \nTickets: Click here
URL:https://paraoa.co.nz/event/gjazz-5-algeria-india-fusion-30th-nov/
ATTACH;FMTTYPE=image/png:https://paraoa.co.nz/wp-content/uploads/2025/11/image_2025-11-01_165042822.png
END:VEVENT
BEGIN:VEVENT
DTSTART;TZID=Pacific/Auckland:20251130T160000
DTEND;TZID=Pacific/Auckland:20251130T170000
DTSTAMP:20260423T044933
CREATED:20250214T015532Z
LAST-MODIFIED:20250214T015532Z
UID:9041-1764518400-1764522000@paraoa.co.nz
SUMMARY:LINE DANCING - 30TH SEP!
DESCRIPTION:LINE DANCING – 30TH SEP!
URL:https://paraoa.co.nz/event/line-dancing-30th-sep/
ATTACH;FMTTYPE=image/jpeg:https://paraoa.co.nz/wp-content/uploads/2025/02/WhatsApp-Image-2025-02-11-at-21.24.53_3bc858f2.jpg
END:VEVENT
END:VCALENDAR