BEGIN:VCALENDAR
VERSION:2.0
PRODID:-//Parāoa Brewing Co. - Whangaparāoa, NZ - ECPv6.15.12.2//NONSGML v1.0//EN
CALSCALE:GREGORIAN
METHOD:PUBLISH
X-WR-CALNAME:Parāoa Brewing Co. - Whangaparāoa, NZ
X-ORIGINAL-URL:https://paraoa.co.nz
X-WR-CALDESC:Events for Parāoa Brewing Co. - Whangaparāoa, NZ
REFRESH-INTERVAL;VALUE=DURATION:PT1H
X-Robots-Tag:noindex
X-PUBLISHED-TTL:PT1H
BEGIN:VTIMEZONE
TZID:Pacific/Auckland
BEGIN:STANDARD
TZOFFSETFROM:+1300
TZOFFSETTO:+1200
TZNAME:NZST
DTSTART:20240406T140000
END:STANDARD
BEGIN:DAYLIGHT
TZOFFSETFROM:+1200
TZOFFSETTO:+1300
TZNAME:NZDT
DTSTART:20240928T140000
END:DAYLIGHT
BEGIN:STANDARD
TZOFFSETFROM:+1300
TZOFFSETTO:+1200
TZNAME:NZST
DTSTART:20250405T140000
END:STANDARD
BEGIN:DAYLIGHT
TZOFFSETFROM:+1200
TZOFFSETTO:+1300
TZNAME:NZDT
DTSTART:20250927T140000
END:DAYLIGHT
BEGIN:STANDARD
TZOFFSETFROM:+1300
TZOFFSETTO:+1200
TZNAME:NZST
DTSTART:20260404T140000
END:STANDARD
BEGIN:DAYLIGHT
TZOFFSETFROM:+1200
TZOFFSETTO:+1300
TZNAME:NZDT
DTSTART:20260926T140000
END:DAYLIGHT
END:VTIMEZONE
BEGIN:VEVENT
DTSTART;TZID=Pacific/Auckland:20251206T203000
DTEND;TZID=Pacific/Auckland:20251206T223000
DTSTAMP:20260423T061828
CREATED:20251130T015928Z
LAST-MODIFIED:20251130T015928Z
UID:9712-1765053000-1765060200@paraoa.co.nz
SUMMARY:ROCKSTOK - 6TH DEC!
DESCRIPTION:ROCKSTOK – 6TH DEC!\nIntroducing “Rockstok\,” a captivating cover rock band that takes audiences on a journey through the timeless classics of the last few Decades. With their raw energy\, impeccable musicianship\, and a deep passion for the music that shaped generations\, Rockstok has become a force to be reckoned with in the cover band scene. \n  \nRockstok is composed of four talented musicians who share a profound love for rock music\, Rockstok breathes new life into iconic hits\, paying homage to legendary bands and artists while adding their unique touch. Their repertoire spans across the decades\, with artists like; Dragon\, The Cars\, Green Day\, My Chemical Romance\, Hello Sailor\, The Cure\, Beastie Boys\, R.E.M.\, Pink Floyd and more! \n  \nRockstok prides itself on their attention to detail\, striving to recreate the original songs faithfully\, while also injecting their own energy and style into each performance. Their dedication to authenticity\, coupled with their undeniable charisma on stage\, has earned them a devoted following and a reputation for delivering unforgettable live experiences. \n  \nThese guys have been playing in Pubs\, Private events\, Corporate events\, Parties Weddings and more all over Auckland\, Bringing their love and passion to each and every performance. Whether they’re playing in small intimate venues or commanding larger stages\, Rockstok brings the spirit of rock and roll to life\, transporting audiences back in time while simultaneously reigniting their passion for the genre. Prepare to be captivated\, transported\, and electrified by the sonic journey that is Rockstok.
URL:https://paraoa.co.nz/event/rockstok-6th-dec/
ATTACH;FMTTYPE=image/png:https://paraoa.co.nz/wp-content/uploads/2025/11/Dec6th_A31-scaled.png
END:VEVENT
END:VCALENDAR