BEGIN:VCALENDAR
VERSION:2.0
PRODID:-//Parāoa Brewing Co. - Whangaparāoa, NZ - ECPv6.15.12.2//NONSGML v1.0//EN
CALSCALE:GREGORIAN
METHOD:PUBLISH
X-ORIGINAL-URL:https://paraoa.co.nz
X-WR-CALDESC:Events for Parāoa Brewing Co. - Whangaparāoa, NZ
REFRESH-INTERVAL;VALUE=DURATION:PT1H
X-Robots-Tag:noindex
X-PUBLISHED-TTL:PT1H
BEGIN:VTIMEZONE
TZID:Pacific/Auckland
BEGIN:STANDARD
TZOFFSETFROM:+1300
TZOFFSETTO:+1200
TZNAME:NZST
DTSTART:20240406T140000
END:STANDARD
BEGIN:DAYLIGHT
TZOFFSETFROM:+1200
TZOFFSETTO:+1300
TZNAME:NZDT
DTSTART:20240928T140000
END:DAYLIGHT
BEGIN:STANDARD
TZOFFSETFROM:+1300
TZOFFSETTO:+1200
TZNAME:NZST
DTSTART:20250405T140000
END:STANDARD
BEGIN:DAYLIGHT
TZOFFSETFROM:+1200
TZOFFSETTO:+1300
TZNAME:NZDT
DTSTART:20250927T140000
END:DAYLIGHT
BEGIN:STANDARD
TZOFFSETFROM:+1300
TZOFFSETTO:+1200
TZNAME:NZST
DTSTART:20260404T140000
END:STANDARD
BEGIN:DAYLIGHT
TZOFFSETFROM:+1200
TZOFFSETTO:+1300
TZNAME:NZDT
DTSTART:20260926T140000
END:DAYLIGHT
END:VTIMEZONE
BEGIN:VEVENT
DTSTART;TZID=Pacific/Auckland:20251212T183000
DTEND;TZID=Pacific/Auckland:20251212T223000
DTSTAMP:20260423T062014
CREATED:20251210T054154Z
LAST-MODIFIED:20251210T054154Z
UID:9731-1765564200-1765578600@paraoa.co.nz
SUMMARY:THE LOCAL LINE UP - 12TH DEC!
DESCRIPTION:THE LOCAL LINE UP – 12TH DEC!\nHollie Brennan: 6.30pm\nThe Easy Brothers: 7.45pm\nThe Living Room: 9.00pm \nKeeping it local and a Koha of your choosing at the Door or The Bar goes to the musicians ! \nLets support our local Coast music scene by coming along and celebrating what we have on the doorstep!
URL:https://paraoa.co.nz/event/the-local-line-up-12th-dec/
ATTACH;FMTTYPE=image/jpeg:https://paraoa.co.nz/wp-content/uploads/2025/12/WhatsApp-Image-2025-12-10-at-18.38.22_f48121ea.jpg
END:VEVENT
END:VCALENDAR