BEGIN:VCALENDAR
VERSION:2.0
PRODID:-//Parāoa Brewing Co. - Whangaparāoa, NZ - ECPv6.15.12.2//NONSGML v1.0//EN
CALSCALE:GREGORIAN
METHOD:PUBLISH
X-ORIGINAL-URL:https://paraoa.co.nz
X-WR-CALDESC:Events for Parāoa Brewing Co. - Whangaparāoa, NZ
REFRESH-INTERVAL;VALUE=DURATION:PT1H
X-Robots-Tag:noindex
X-PUBLISHED-TTL:PT1H
BEGIN:VTIMEZONE
TZID:Pacific/Auckland
BEGIN:STANDARD
TZOFFSETFROM:+1300
TZOFFSETTO:+1200
TZNAME:NZST
DTSTART:20240406T140000
END:STANDARD
BEGIN:DAYLIGHT
TZOFFSETFROM:+1200
TZOFFSETTO:+1300
TZNAME:NZDT
DTSTART:20240928T140000
END:DAYLIGHT
BEGIN:STANDARD
TZOFFSETFROM:+1300
TZOFFSETTO:+1200
TZNAME:NZST
DTSTART:20250405T140000
END:STANDARD
BEGIN:DAYLIGHT
TZOFFSETFROM:+1200
TZOFFSETTO:+1300
TZNAME:NZDT
DTSTART:20250927T140000
END:DAYLIGHT
BEGIN:STANDARD
TZOFFSETFROM:+1300
TZOFFSETTO:+1200
TZNAME:NZST
DTSTART:20260404T140000
END:STANDARD
BEGIN:DAYLIGHT
TZOFFSETFROM:+1200
TZOFFSETTO:+1300
TZNAME:NZDT
DTSTART:20260926T140000
END:DAYLIGHT
END:VTIMEZONE
BEGIN:VEVENT
DTSTART;TZID=Pacific/Auckland:20251213T203000
DTEND;TZID=Pacific/Auckland:20251213T220000
DTSTAMP:20260423T062015
CREATED:20251210T054048Z
LAST-MODIFIED:20251210T054048Z
UID:9728-1765657800-1765663200@paraoa.co.nz
SUMMARY:SLAMTOWNE THE YEAR END BLOW OUT - 13TH DEC!
DESCRIPTION:SLAMTOWNE THE YEAR END BLOW OUT – 13TH DEC!\nAn exceptional group of musicians dedicated to getting you up to boogie! With an extensive catalogue of covers there is something for everyone to get down and show the world how you move. \nCome join the boys for a year end blow out\, Band playing from 7:30pm\, so come down early and make sure to bring some cash\, as its a measly ole $10 on the door… one lucky punter may even get a coveted ‘backstage’ pass with the band.\nWe look forward to seeing you all… and Christmas dress ups are welcomed
URL:https://paraoa.co.nz/event/slamtowne-the-year-end-blow-out-13th-dec/
ATTACH;FMTTYPE=image/jpeg:https://paraoa.co.nz/wp-content/uploads/2025/12/WhatsApp-Image-2025-12-09-at-10.12.26_0167659a.jpg
END:VEVENT
END:VCALENDAR