BEGIN:VCALENDAR
VERSION:2.0
PRODID:-//Parāoa Brewing Co. - Whangaparāoa, NZ - ECPv6.15.12.2//NONSGML v1.0//EN
CALSCALE:GREGORIAN
METHOD:PUBLISH
X-ORIGINAL-URL:https://paraoa.co.nz
X-WR-CALDESC:Events for Parāoa Brewing Co. - Whangaparāoa, NZ
REFRESH-INTERVAL;VALUE=DURATION:PT1H
X-Robots-Tag:noindex
X-PUBLISHED-TTL:PT1H
BEGIN:VTIMEZONE
TZID:Pacific/Auckland
BEGIN:STANDARD
TZOFFSETFROM:+1300
TZOFFSETTO:+1200
TZNAME:NZST
DTSTART:20240406T140000
END:STANDARD
BEGIN:DAYLIGHT
TZOFFSETFROM:+1200
TZOFFSETTO:+1300
TZNAME:NZDT
DTSTART:20240928T140000
END:DAYLIGHT
BEGIN:STANDARD
TZOFFSETFROM:+1300
TZOFFSETTO:+1200
TZNAME:NZST
DTSTART:20250405T140000
END:STANDARD
BEGIN:DAYLIGHT
TZOFFSETFROM:+1200
TZOFFSETTO:+1300
TZNAME:NZDT
DTSTART:20250927T140000
END:DAYLIGHT
BEGIN:STANDARD
TZOFFSETFROM:+1300
TZOFFSETTO:+1200
TZNAME:NZST
DTSTART:20260404T140000
END:STANDARD
BEGIN:DAYLIGHT
TZOFFSETFROM:+1200
TZOFFSETTO:+1300
TZNAME:NZDT
DTSTART:20260926T140000
END:DAYLIGHT
BEGIN:STANDARD
TZOFFSETFROM:+1300
TZOFFSETTO:+1200
TZNAME:NZST
DTSTART:20270403T140000
END:STANDARD
BEGIN:DAYLIGHT
TZOFFSETFROM:+1200
TZOFFSETTO:+1300
TZNAME:NZDT
DTSTART:20270925T140000
END:DAYLIGHT
END:VTIMEZONE
BEGIN:VEVENT
DTSTART;TZID=Pacific/Auckland:20251231T200000
DTEND;TZID=Pacific/Auckland:20260101T000000
DTSTAMP:20260423T101352
CREATED:20251205T022942Z
LAST-MODIFIED:20251205T022942Z
UID:9719-1767211200-1767225600@paraoa.co.nz
SUMMARY:80S NEW YEAR'S EXPERIENCE - 31ST DEC!
DESCRIPTION:80S NEW YEAR’S EXPERIENCE – 31ST DEC!\n80s New Year’s Experience – Live at Paraoa Brewing Co. \nCelebrate New Year’s Eve with The Breakfast Club\, Auckland’s newest 80s party band. Get ready for a huge night of iconic hits\, sing-along classics\, and full dance-floor energy as we count down to 2026. \nThe 80s New Year’s Experience brings all the colour\, nostalgia\, and excitement of the decade to the Hibiscus Coast. With Paraoa’s great food\, cold brews\, and lively atmosphere\, it’s the perfect way to farewell 2025. \nGather your friends\, dress in your best retro gear\, and get ready for an unforgettable night. \nLive band • 80s anthems • Midnight countdown • Retro party vibes \nTickets: Click here
URL:https://paraoa.co.nz/event/80s-new-years-experience-31st-dec/
ATTACH;FMTTYPE=image/png:https://paraoa.co.nz/wp-content/uploads/2025/12/image_2025-12-05_152902267.png
END:VEVENT
END:VCALENDAR