BEGIN:VCALENDAR
VERSION:2.0
PRODID:-//Parāoa Brewing Co. - Whangaparāoa, NZ - ECPv6.15.12.2//NONSGML v1.0//EN
CALSCALE:GREGORIAN
METHOD:PUBLISH
X-ORIGINAL-URL:https://paraoa.co.nz
X-WR-CALDESC:Events for Parāoa Brewing Co. - Whangaparāoa, NZ
REFRESH-INTERVAL;VALUE=DURATION:PT1H
X-Robots-Tag:noindex
X-PUBLISHED-TTL:PT1H
BEGIN:VTIMEZONE
TZID:Pacific/Auckland
BEGIN:STANDARD
TZOFFSETFROM:+1300
TZOFFSETTO:+1200
TZNAME:NZST
DTSTART:20240406T140000
END:STANDARD
BEGIN:DAYLIGHT
TZOFFSETFROM:+1200
TZOFFSETTO:+1300
TZNAME:NZDT
DTSTART:20240928T140000
END:DAYLIGHT
BEGIN:STANDARD
TZOFFSETFROM:+1300
TZOFFSETTO:+1200
TZNAME:NZST
DTSTART:20250405T140000
END:STANDARD
BEGIN:DAYLIGHT
TZOFFSETFROM:+1200
TZOFFSETTO:+1300
TZNAME:NZDT
DTSTART:20250927T140000
END:DAYLIGHT
BEGIN:STANDARD
TZOFFSETFROM:+1300
TZOFFSETTO:+1200
TZNAME:NZST
DTSTART:20260404T140000
END:STANDARD
BEGIN:DAYLIGHT
TZOFFSETFROM:+1200
TZOFFSETTO:+1300
TZNAME:NZDT
DTSTART:20260926T140000
END:DAYLIGHT
END:VTIMEZONE
BEGIN:VEVENT
DTSTART;TZID=Pacific/Auckland:20251003T200000
DTEND;TZID=Pacific/Auckland:20251003T230000
DTSTAMP:20260423T013640
CREATED:20250831T023350Z
LAST-MODIFIED:20250831T023350Z
UID:9643-1759521600-1759532400@paraoa.co.nz
SUMMARY:THE BACK FOUR BAND - 3RD OCT!
DESCRIPTION:THE BACK FOUR BAND – 3RD OCT!\nThe Back Four\, your go-to band for a night of pure pub rock nostalgia\, cranking out classic tunes from the 60s through to 00s.\nWith a setlist packed full of legendary songs\, they bring the perfect mix of rock\, pop\, Kiwi and Aussie classics\, that’ll have you singing along all night. Whether it’s the gritty sounds of the Rolling Stones\, the energetic vibes of Dire Straits\, or iconic New Zealand and Aussie anthems\, The Back Four keeps the good times rolling. \nJan Posa\, one of Auckland’s best female singers\, is out front. Jan has sung professionally with a who’s who of the New Zealand entertainment industry. \nHer powerhouse vocals are complemented by Dave Sheppard on rhythm and lead vocals\, Tony Pattison lead guitar\, Paul Gerrard bass and vocals and Ashley Sadler on drums. \nThey look forward to entertaining you at the legendary Paraoa Brewing Co\, an iconic venue for live music\, on Friday October the 3rd \nTickets: Click here
URL:https://paraoa.co.nz/event/the-back-four-band-3rd-oct/
ATTACH;FMTTYPE=image/png:https://paraoa.co.nz/wp-content/uploads/2025/08/image_2025-08-31_143204070.png
END:VEVENT
BEGIN:VEVENT
DTSTART;TZID=Pacific/Auckland:20251004T200000
DTEND;TZID=Pacific/Auckland:20251004T233000
DTSTAMP:20260423T013640
CREATED:20250722T081447Z
LAST-MODIFIED:20250722T081447Z
UID:9594-1759608000-1759620600@paraoa.co.nz
SUMMARY:BUGGIN OUT WITH SPECTRAVISION - 4TH OCT!
DESCRIPTION:BUGGIN OUT WITH SPECTRAVISION – 4TH OCT!\nBUGGIN OUT with SpectraVision \nWere on our way to the Hibiscus Coast! the town of beaches\, Whangaparāoa\, Auckland.\nPopping up for a night of DnB themed around Critters and Bugs\, while slowly being taken over by the gliches and viruses. \nThrowing up a classic SpectraVision stage\, brought to life with 3D projection mapping and Visuals with a additional creation from Jessie/@its_mxlly_ to really spice it up! \nAlong with some top teir DJs to guide us through the night. \n2Fly – @2fly_dnb\nManicErratic – @manic_erratic\nRainMaker – @rainmaker_select \nSpace will be included\, for flow props. \nDoor sales avalible $35 (Subject to availability) \nTickets: Click here
URL:https://paraoa.co.nz/event/buggin-out-with-spectravision-4th-oct/
ATTACH;FMTTYPE=image/png:https://paraoa.co.nz/wp-content/uploads/2025/07/image_2025-07-22_201415708.png
END:VEVENT
BEGIN:VEVENT
DTSTART;TZID=Pacific/Auckland:20251005T133000
DTEND;TZID=Pacific/Auckland:20251005T153000
DTSTAMP:20260423T013640
CREATED:20250703T021647Z
LAST-MODIFIED:20250703T021647Z
UID:9494-1759671000-1759678200@paraoa.co.nz
SUMMARY:SUNDAY SALSA - 5TH OCT!
DESCRIPTION:SUNDAY SALSA – 5TH OCT!\n 
URL:https://paraoa.co.nz/event/sunday-salsa-5th-oct/
ATTACH;FMTTYPE=image/jpeg:https://paraoa.co.nz/wp-content/uploads/2025/07/WhatsApp-Image-2025-06-24-at-09.53.45_a18fabbc.jpg
END:VEVENT
BEGIN:VEVENT
DTSTART;TZID=Pacific/Auckland:20251007T190000
DTEND;TZID=Pacific/Auckland:20251007T213000
DTSTAMP:20260423T013640
CREATED:20250703T023829Z
LAST-MODIFIED:20250820T230925Z
UID:9533-1759863600-1759872600@paraoa.co.nz
SUMMARY:LATIN NIGHT SALSA & BACHATA - 7TH OCT!
DESCRIPTION:LATIN NIGHT SALSA & BACHATA – 7TH OCT!\n 
URL:https://paraoa.co.nz/event/latin-night-salsa-bachata-7th-oct/
ATTACH;FMTTYPE=image/png:https://paraoa.co.nz/wp-content/uploads/2025/07/TuesdayParaoa-web-.png
END:VEVENT
BEGIN:VEVENT
DTSTART;TZID=Pacific/Auckland:20251010T190000
DTEND;TZID=Pacific/Auckland:20251010T230000
DTSTAMP:20260423T013640
CREATED:20251002T221743Z
LAST-MODIFIED:20251002T221743Z
UID:9671-1760122800-1760137200@paraoa.co.nz
SUMMARY:SOKKIE DANCE NIGHT WITH LIVE DJ & BRAAI - 10TH OCT!
DESCRIPTION:SOKKIE DANCE NIGHT WITH LIVE DJ & BRAAI – 10TH OCT!\nIt’s a Sokkie Night that brings it all!! Our third social dance event featuring sokkie\, a traditional South African dance style. involving lively music with a live DJ “Countess CC”\, with partner dancing\, and a festive atmosphere. \nCome along\, enjoy this as we have now added a braai (barbecue) with grilled meats and sides\, It is a great night for socializing\, celebrating culture\, and enjoying good food and music with friends and family!! \nTickets: $10 online\nDoor Sales: $15\nChildren: $5\nUnder 10: Free \nTickets: Click here
URL:https://paraoa.co.nz/event/sokkie-dance-night-with-live-dj-braai-10th-oct/
ATTACH;FMTTYPE=image/png:https://paraoa.co.nz/wp-content/uploads/2025/10/image_2025-10-03_111701674.png
END:VEVENT
BEGIN:VEVENT
DTSTART;TZID=Pacific/Auckland:20251011T190000
DTEND;TZID=Pacific/Auckland:20251011T230000
DTSTAMP:20260423T013640
CREATED:20251002T222332Z
LAST-MODIFIED:20251002T222332Z
UID:9674-1760209200-1760223600@paraoa.co.nz
SUMMARY:LIVE & LENS - 11TH OCT!
DESCRIPTION:LIVE & LENS – 11TH OCT!\nLive & Lens 11th October 2025 \n7.30pm – 11pm\, Tickets from Eventfinda: $15 per head \nCOME AND BE PART OF A NEW KIND OF LIVE EVENT! \nThe LIVE&LENS SESSIONS at Parao Brewing Co. in Whangaparaoa are a new kind of live event. Not just a gig\, not just a showcase\, but a live happening that we capture on film for the benefit of the artists\, to help them with their own promotion. It’s a chance to support artists you like and/ or love\, to see new acts\, support local talent\, and live entertainment generally. We’re keeping the cost of entry to a minimum because this is what pays the fixed costs of producing the event – the filming\, sound and lights. The acts get the live AV\, and everyone has a great time. \nOur first LIVE&LENS SESSION FEATURES: \nSonia & Gavin (Sonia Wilson and Nigel Gavin) are a soulful acoustic duo rooted in Aotearoa’s folk traditions. Known and loved all over New Zealand and beyond\, this appearance marks the start of their Nationwide tour. \nSonia’s honeyed French-American vocals and ukulele blend with Nigel’s masterful 7-string guitar—touching blues\, jazz\, and porch-side magic—to create music that’s earthy and quietly virtuosic. Their songs explore travel\, nature\, and connection\, delivered with warm harmonies from festival stages to living rooms. \nDirt Road Orchestra is a six-piece acoustic ensemble steeped in British and Celtic folk\, with a New Zealand twist. Led by songwriter Andy Hamilton\, they mix ballads\, rhythm\, and storytelling into a melodic\, character-rich sound. Well-known Auckland duo King & Power add harmonic colour and groove\, Lucy Burrows brings fiery fiddle (this quartet are also the celebrated Auckland Céilí/ Cèilidh Band). Jess Brown supports on vocals\, and Menno Besseling anchors the rhythm. \nThe TIMES are the house band for the LIVE&LENS SESSIONS—a four-piece supergroup blending UK/European rock\, pop\, and glam. Born from unrealised projects. As the LIVE & LENS house band\, they start the shows delivering a retro-infused show with AV delivering the visuals that’s neither covers nor tribute. A fresh take on live performance with seasoned players and cinematic flair. \nTickets: Click here
URL:https://paraoa.co.nz/event/live-lens-11th-oct/
ATTACH;FMTTYPE=image/png:https://paraoa.co.nz/wp-content/uploads/2025/10/image_2025-10-03_111833940.png
END:VEVENT
BEGIN:VEVENT
DTSTART;TZID=Pacific/Auckland:20251012T133000
DTEND;TZID=Pacific/Auckland:20251012T153000
DTSTAMP:20260423T013640
CREATED:20250703T021746Z
LAST-MODIFIED:20250703T021746Z
UID:9496-1760275800-1760283000@paraoa.co.nz
SUMMARY:SUNDAY SALSA - 12TH OCT!
DESCRIPTION:SUNDAY SALSA – 12TH OCT!\n 
URL:https://paraoa.co.nz/event/sunday-salsa-12th-oct/
ATTACH;FMTTYPE=image/jpeg:https://paraoa.co.nz/wp-content/uploads/2025/07/WhatsApp-Image-2025-06-24-at-09.53.45_a18fabbc.jpg
END:VEVENT
BEGIN:VEVENT
DTSTART;TZID=Pacific/Auckland:20251014T190000
DTEND;TZID=Pacific/Auckland:20251014T213000
DTSTAMP:20260423T013640
CREATED:20250703T023855Z
LAST-MODIFIED:20250820T230910Z
UID:9535-1760468400-1760477400@paraoa.co.nz
SUMMARY:LATIN NIGHT SALSA & BACHATA - 14TH OCT!
DESCRIPTION:LATIN NIGHT SALSA & BACHATA – 14TH OCT!\n 
URL:https://paraoa.co.nz/event/latin-night-salsa-bachata-14th-oct/
ATTACH;FMTTYPE=image/png:https://paraoa.co.nz/wp-content/uploads/2025/07/TuesdayParaoa-web-.png
END:VEVENT
BEGIN:VEVENT
DTSTART;TZID=Pacific/Auckland:20251017T203000
DTEND;TZID=Pacific/Auckland:20251017T230000
DTSTAMP:20260423T013640
CREATED:20250703T041020Z
LAST-MODIFIED:20250703T041020Z
UID:9554-1760733000-1760742000@paraoa.co.nz
SUMMARY:AFTERHOURS - 17TH OCT!
DESCRIPTION:AFTERHOURS – 17TH OCT!\nForged in the spirit of rebellion and raw guitar riffs\, After Hours is new to the music scene on the coast—but we’re bringing the timeless energy of classic rock roaring back to life. \nWe’re not just keeping the sound alive—we’re turning it up to 11. With thunderous drums\, screaming solos\, and vocals that hit straight to the soul\, we channel the legends of the ’60s\, ’70s\, and ’90s while carving our own path through today’s music scene. Whether it’s an electrifying stage performance or a stripped-back jam session\, we’re here to ignite memories and make new ones. \nEvery show is a tribute to the greats—from Zeppelin and Hendrix to Deep Purple\, from STP and Pearl Jam to Nirvana—blended with our own stories\, our own edge\, and a passion that never fades. For After Hours\, classic rock isn’t just a genre—it’s a way of life. And we’re here to keep it rolling long after the final encore. \nThe night starts… Afterhours \nTickets: Click here
URL:https://paraoa.co.nz/event/afterhours-17th-oct/
ATTACH;FMTTYPE=image/png:https://paraoa.co.nz/wp-content/uploads/2025/07/image_2025-07-03_160956732.png
END:VEVENT
BEGIN:VEVENT
DTSTART;TZID=Pacific/Auckland:20251019T133000
DTEND;TZID=Pacific/Auckland:20251019T153000
DTSTAMP:20260423T013640
CREATED:20250703T021821Z
LAST-MODIFIED:20250703T021821Z
UID:9498-1760880600-1760887800@paraoa.co.nz
SUMMARY:SUNDAY SALSA - 19TH OCT!
DESCRIPTION:SUNDAY SALSA – 19TH OCT!\n 
URL:https://paraoa.co.nz/event/sunday-salsa-19th-oct/
ATTACH;FMTTYPE=image/jpeg:https://paraoa.co.nz/wp-content/uploads/2025/07/WhatsApp-Image-2025-06-24-at-09.53.45_a18fabbc.jpg
END:VEVENT
BEGIN:VEVENT
DTSTART;TZID=Pacific/Auckland:20251021T190000
DTEND;TZID=Pacific/Auckland:20251021T213000
DTSTAMP:20260423T013640
CREATED:20250703T023929Z
LAST-MODIFIED:20250820T230856Z
UID:9537-1761073200-1761082200@paraoa.co.nz
SUMMARY:LATIN NIGHT SALSA & BACHATA - 21ST OCT!
DESCRIPTION:LATIN NIGHT SALSA & BACHATA – 21ST OCT!\n 
URL:https://paraoa.co.nz/event/latin-night-salsa-bachata-21st-oct/
ATTACH;FMTTYPE=image/png:https://paraoa.co.nz/wp-content/uploads/2025/07/TuesdayParaoa-web-.png
END:VEVENT
BEGIN:VEVENT
DTSTART;TZID=Pacific/Auckland:20251026T133000
DTEND;TZID=Pacific/Auckland:20251026T153000
DTSTAMP:20260423T013640
CREATED:20250703T021859Z
LAST-MODIFIED:20250703T021859Z
UID:9500-1761485400-1761492600@paraoa.co.nz
SUMMARY:SUNDAY SALSA - 26TH OCT!
DESCRIPTION:SUNDAY SALSA – 26TH OCT!\n 
URL:https://paraoa.co.nz/event/sunday-salsa-26th-oct/
ATTACH;FMTTYPE=image/jpeg:https://paraoa.co.nz/wp-content/uploads/2025/07/WhatsApp-Image-2025-06-24-at-09.53.45_a18fabbc.jpg
END:VEVENT
BEGIN:VEVENT
DTSTART;TZID=Pacific/Auckland:20251026T160000
DTEND;TZID=Pacific/Auckland:20251026T170000
DTSTAMP:20260423T013640
CREATED:20250214T015501Z
LAST-MODIFIED:20250214T015501Z
UID:9039-1761494400-1761498000@paraoa.co.nz
SUMMARY:LINE DANCING - 26TH OCT!
DESCRIPTION:LINE DANCING – 26TH OCT!
URL:https://paraoa.co.nz/event/line-dancing-26th-oct/
ATTACH;FMTTYPE=image/jpeg:https://paraoa.co.nz/wp-content/uploads/2025/02/WhatsApp-Image-2025-02-11-at-21.24.53_3bc858f2.jpg
END:VEVENT
BEGIN:VEVENT
DTSTART;TZID=Pacific/Auckland:20251028T190000
DTEND;TZID=Pacific/Auckland:20251028T213000
DTSTAMP:20260423T013640
CREATED:20250703T024013Z
LAST-MODIFIED:20250820T230831Z
UID:9539-1761678000-1761687000@paraoa.co.nz
SUMMARY:LATIN NIGHT SALSA & BACHATA - 28TH OCT!
DESCRIPTION:LATIN NIGHT SALSA & BACHATA – 28TH OCT!\n 
URL:https://paraoa.co.nz/event/latin-night-salsa-bachata-28th-oct/
ATTACH;FMTTYPE=image/png:https://paraoa.co.nz/wp-content/uploads/2025/07/TuesdayParaoa-web-.png
END:VEVENT
BEGIN:VEVENT
DTSTART;TZID=Pacific/Auckland:20251031T193000
DTEND;TZID=Pacific/Auckland:20251031T233000
DTSTAMP:20260423T013640
CREATED:20250816T030842Z
LAST-MODIFIED:20250816T030842Z
UID:9622-1761939000-1761953400@paraoa.co.nz
SUMMARY:TADPOLE - 31ST OCT!
DESCRIPTION:TADPOLE – 31ST OCT!\n25th Anniversary Celebration \nThe release of “George” signals the beginning of monumental celebrations for the 25th anniversary of “The Buddhafinger.” This milestone year promises special performances\, exclusive releases\, and surprises that honor their enduring legacy while showcasing the band’s creative renaissance under Marshall’s distinctive vocal leadership. \nThe anniversary coincides with Tadpole’s artistic rebirth—balancing reverence for their classic sound with bold new directions that bridge 1990s alt-rock attitude with modern studio muscle. \nFor both devoted followers and new listeners\, Tadpole’s return represents more than nostalgia—it’s the triumphant rebirth of a vital force in New Zealand rock\, proving that after nearly two decades\, they remain fully switched on and poised to reclaim their position at the forefront of Aotearoa’s music scene. \nTickets: Click here
URL:https://paraoa.co.nz/event/tadpole-31st-oct/
ATTACH;FMTTYPE=image/jpeg:https://paraoa.co.nz/wp-content/uploads/2025/08/TADPOLE_-_BUDDHA_25_YR_TOUR_2025_INSTA_STORY_1080x19201.jpg
END:VEVENT
END:VCALENDAR