BEGIN:VCALENDAR
VERSION:2.0
PRODID:-//Parāoa Brewing Co. - Whangaparāoa, NZ - ECPv6.15.12.2//NONSGML v1.0//EN
CALSCALE:GREGORIAN
METHOD:PUBLISH
X-WR-CALNAME:Parāoa Brewing Co. - Whangaparāoa, NZ
X-ORIGINAL-URL:https://paraoa.co.nz
X-WR-CALDESC:Events for Parāoa Brewing Co. - Whangaparāoa, NZ
REFRESH-INTERVAL;VALUE=DURATION:PT1H
X-Robots-Tag:noindex
X-PUBLISHED-TTL:PT1H
BEGIN:VTIMEZONE
TZID:Pacific/Auckland
BEGIN:STANDARD
TZOFFSETFROM:+1300
TZOFFSETTO:+1200
TZNAME:NZST
DTSTART:20240406T140000
END:STANDARD
BEGIN:DAYLIGHT
TZOFFSETFROM:+1200
TZOFFSETTO:+1300
TZNAME:NZDT
DTSTART:20240928T140000
END:DAYLIGHT
BEGIN:STANDARD
TZOFFSETFROM:+1300
TZOFFSETTO:+1200
TZNAME:NZST
DTSTART:20250405T140000
END:STANDARD
BEGIN:DAYLIGHT
TZOFFSETFROM:+1200
TZOFFSETTO:+1300
TZNAME:NZDT
DTSTART:20250927T140000
END:DAYLIGHT
BEGIN:STANDARD
TZOFFSETFROM:+1300
TZOFFSETTO:+1200
TZNAME:NZST
DTSTART:20260404T140000
END:STANDARD
BEGIN:DAYLIGHT
TZOFFSETFROM:+1200
TZOFFSETTO:+1300
TZNAME:NZDT
DTSTART:20260926T140000
END:DAYLIGHT
END:VTIMEZONE
BEGIN:VEVENT
DTSTART;TZID=Pacific/Auckland:20251104T190000
DTEND;TZID=Pacific/Auckland:20251104T213000
DTSTAMP:20260423T031915
CREATED:20250703T024043Z
LAST-MODIFIED:20250820T230819Z
UID:9541-1762282800-1762291800@paraoa.co.nz
SUMMARY:LATIN NIGHT SALSA & BACHATA - 4TH NOV!
DESCRIPTION:LATIN NIGHT SALSA & BACHATA – 4TH NOV!\n 
URL:https://paraoa.co.nz/event/latin-night-salsa-bachata-4th-nov/
ATTACH;FMTTYPE=image/png:https://paraoa.co.nz/wp-content/uploads/2025/07/TuesdayParaoa-web-.png
END:VEVENT
BEGIN:VEVENT
DTSTART;TZID=Pacific/Auckland:20251108T190000
DTEND;TZID=Pacific/Auckland:20251108T220000
DTSTAMP:20260423T031915
CREATED:20251022T060150Z
LAST-MODIFIED:20251022T060150Z
UID:9685-1762628400-1762639200@paraoa.co.nz
SUMMARY:WILD HONEY - 8TH NOV!
DESCRIPTION:WILD HONEY – 8TH NOV!\nExperience the timeless fusion of Fleetwood Mac and the Eagles as we take you on an unforgettable journey through the greatest rock hits of the 70s and 80s. \nWhat to Expect \nJoin us for a magical evening of live music by the coast! The Wild Honey Band\, under the dynamic leadership of Reg Hellesoe from Soul Vibes Band\, is set to reconnect with its rock roots. Sharing the stage will be the immensely talented Sandy Banner-Martin\, a cherished local entertainer celebrated for her mesmerizing voice and engaging performances. \nWe are thrilled to welcome back Chris McCarthy\, a prominent figure in the music scene renowned for his work with the mid-70s prog rock/funk band The Inbetweens. Chris later co-founded AudioCulture with his brother Neville\, showcasing his incredible talent on guitar. His signature sound helped define The Inbetweens’ unique style\, with one reviewer aptly noting\, “Their sound most often belongs to guitarist Chris McCarthy\, whose technique is truly exceptional… Many of the songs serve as platforms for his extraordinary playing.” \nDon’t miss your chance to be part of this unforgettable evening of music! \nTickets: Click here
URL:https://paraoa.co.nz/event/wild-honey-8th-nov/
ATTACH;FMTTYPE=image/png:https://paraoa.co.nz/wp-content/uploads/2025/10/image_2025-10-22_190010919.png
END:VEVENT
BEGIN:VEVENT
DTSTART;TZID=Pacific/Auckland:20251109T133000
DTEND;TZID=Pacific/Auckland:20251109T153000
DTSTAMP:20260423T031915
CREATED:20250703T021956Z
LAST-MODIFIED:20250703T021956Z
UID:9502-1762695000-1762702200@paraoa.co.nz
SUMMARY:SUNDAY SALSA - 9TH NOV!
DESCRIPTION:SUNDAY SALSA – 9TH NOV!\n 
URL:https://paraoa.co.nz/event/sunday-salsa-9th-nov/
ATTACH;FMTTYPE=image/jpeg:https://paraoa.co.nz/wp-content/uploads/2025/07/WhatsApp-Image-2025-06-24-at-09.53.45_a18fabbc.jpg
END:VEVENT
BEGIN:VEVENT
DTSTART;TZID=Pacific/Auckland:20251111T190000
DTEND;TZID=Pacific/Auckland:20251111T213000
DTSTAMP:20260423T031915
CREATED:20250703T024109Z
LAST-MODIFIED:20250820T230805Z
UID:9543-1762887600-1762896600@paraoa.co.nz
SUMMARY:LATIN NIGHT SALSA & BACHATA - 11TH NOV!
DESCRIPTION:LATIN NIGHT SALSA & BACHATA – 11TH NOV!\n 
URL:https://paraoa.co.nz/event/latin-night-salsa-bachata-11th-nov/
ATTACH;FMTTYPE=image/png:https://paraoa.co.nz/wp-content/uploads/2025/07/TuesdayParaoa-web-.png
END:VEVENT
BEGIN:VEVENT
DTSTART;TZID=Pacific/Auckland:20251114T183000
DTEND;TZID=Pacific/Auckland:20251114T210000
DTSTAMP:20260423T031915
CREATED:20251022T061247Z
LAST-MODIFIED:20251022T061247Z
UID:9697-1763145000-1763154000@paraoa.co.nz
SUMMARY:AUCKLAND CEILI/CEILIDH BAND/DANCE NIGHT - 14TH NOV!
DESCRIPTION:AUCKLAND CEILI/CEILIDH BAND/DANCE NIGHT – 14TH NOV!\nGet ready for a foot-stomping\, family-friendly night of traditional Celtic music and dancing! The Auckland Céilí/Cèilidh Band brings the spirit of Ireland and Scotland to Whangaparāoa with live tunes and easy-to-follow group dances for all ages and abilities.\nWhether you’re a seasoned dancer or just curious to try\, this event is all about joy\, connection\, and rhythm. No experience needed—just bring your energy and a smile. \nHosted at Parāoa Brewing Co.\, with local brews and refreshments available throughout the evening.\nWhat to expect: \nLive Irish & Scottish music from Auckland’s leading Céilí/Cèilidh band\nInclusive dancing—everyone joins in\nWelcoming atmosphere for families\, kids\, and newcomers\nAffordable ticketing\nCraft beer and food available on site \nCome dance\, laugh\, and celebrate Celtic culture in a relaxed\, vibrant setting. It’s the kind of night that brings people together—don’t miss it! \nTickets: Adults $20 | Kids under 12 $5 \nTickets: Click here
URL:https://paraoa.co.nz/event/auckland-ceili-ceilidh-band-dance-night-14th-nov/
ATTACH;FMTTYPE=image/png:https://paraoa.co.nz/wp-content/uploads/2025/10/image_2025-10-22_191013671.png
END:VEVENT
BEGIN:VEVENT
DTSTART;TZID=Pacific/Auckland:20251115T180000
DTEND;TZID=Pacific/Auckland:20251115T220000
DTSTAMP:20260423T031915
CREATED:20250901T051816Z
LAST-MODIFIED:20250901T051816Z
UID:9646-1763229600-1763244000@paraoa.co.nz
SUMMARY:SOUL FOR STARSHIP - 15TH SEP!
DESCRIPTION:SOUL FOR STARSHIP – 15TH SEP!\nSoul for Starship – A Night of Music & Community ! \nJoin us Friday\, 15th November at the lively Paraoa Brewing Co. in Whangaparaoa for a charity gig like no other\, all in support of Starship Children’s Hospital. \nExpect a night packed with feel-good vibes\, live music\, dancing\, and community spirit! \nLive Acts Include: \nGroove Assembly – A powerhouse Soul band bringing a high-energy blend of rhythm\, horns\, and killer vocals that’ll keep you moving all night.\nAndre Skinner – Soulful vocals and guitar from a rising solo talent.\nDJ David James – Dropping smooth grooves to keep the dancefloor buzzing. \n100% of proceeds go to Starship – so come dance\, connect\, and support an incredible cause! \nTickets: Click here
URL:https://paraoa.co.nz/event/soul-for-starship-15th-sep/
ATTACH;FMTTYPE=image/png:https://paraoa.co.nz/wp-content/uploads/2025/09/image_2025-09-01_171737789.png
END:VEVENT
BEGIN:VEVENT
DTSTART;TZID=Pacific/Auckland:20251116T133000
DTEND;TZID=Pacific/Auckland:20251116T153000
DTSTAMP:20260423T031915
CREATED:20250703T022033Z
LAST-MODIFIED:20250703T022033Z
UID:9504-1763299800-1763307000@paraoa.co.nz
SUMMARY:SUNDAY SALSA - 16TH NOV!
DESCRIPTION:SUNDAY SALSA – 16TH NOV!\n 
URL:https://paraoa.co.nz/event/sunday-salsa-16th-nov/
ATTACH;FMTTYPE=image/jpeg:https://paraoa.co.nz/wp-content/uploads/2025/07/WhatsApp-Image-2025-06-24-at-09.53.45_a18fabbc.jpg
END:VEVENT
BEGIN:VEVENT
DTSTART;TZID=Pacific/Auckland:20251118T190000
DTEND;TZID=Pacific/Auckland:20251118T213000
DTSTAMP:20260423T031915
CREATED:20250703T024143Z
LAST-MODIFIED:20250820T230548Z
UID:9545-1763492400-1763501400@paraoa.co.nz
SUMMARY:LATIN NIGHT SALSA & BACHATA - 18TH NOV!
DESCRIPTION:LATIN NIGHT SALSA & BACHATA – 18TH NOV!\n 
URL:https://paraoa.co.nz/event/latin-night-salsa-bachata-18th-nov/
ATTACH;FMTTYPE=image/png:https://paraoa.co.nz/wp-content/uploads/2025/07/TuesdayParaoa-web-.png
END:VEVENT
BEGIN:VEVENT
DTSTART;TZID=Pacific/Auckland:20251121T200000
DTEND;TZID=Pacific/Auckland:20251121T233000
DTSTAMP:20260423T031915
CREATED:20251022T060646Z
LAST-MODIFIED:20251022T060646Z
UID:9689-1763755200-1763767800@paraoa.co.nz
SUMMARY:RIDDEM CARTEL MEETS MIGHTY ASTERIX AND KING KAPISI - 21ST NOV!
DESCRIPTION:RIDDEM CARTEL MEETS MIGHTY ASTERIX AND KING KAPISI – 21ST NOV!\nKlutch Live presents an unmissable night with the one and only King Kapisi – bringing the energy both behind the decks and on the mic. \nExperience a dynamic mix of sounds – from hip hop to reggae\, pop to rock\, and everything in between. Expect a set that’s fresh\, unpredictable\, and guaranteed to keep the vibes high all night long. \nThis is more than just a show – it’s a celebration of one of Aotearoa’s most iconic artists doing what he does best: creating unforgettable live moments. \nDon’t miss your chance to witness King Kapisi – DJ set + live performance. \nFirst NZ hip hop artist to win the APRA Silver Scroll\nMultiple Tui Awards winner (NZ Music Awards)\nShared stages with The Black Eyed Peas\, Beastie Boys\, Damian Marley + loads more\nCreator of classics like Screems from da Old Plantation & U Can’t Resist Us (feat. Che Fu)\nOver 20 years at the forefront of Aotearoa’s music scene \nTickets: Click here
URL:https://paraoa.co.nz/event/riddem-cartel-meets-mighty-asterix-and-king-kapisi-21st-nov/
ATTACH;FMTTYPE=image/png:https://paraoa.co.nz/wp-content/uploads/2025/10/image_2025-10-22_190504879.png
END:VEVENT
BEGIN:VEVENT
DTSTART;TZID=Pacific/Auckland:20251122T200000
DTEND;TZID=Pacific/Auckland:20251122T233000
DTSTAMP:20260423T031915
CREATED:20250625T230902Z
LAST-MODIFIED:20250625T230902Z
UID:9447-1763841600-1763854200@paraoa.co.nz
SUMMARY:THE EAGLES EXPERIENCE MOTEL CALIFORNIA - 22ND NOV!
DESCRIPTION:THE EAGLES EXPERIENCE MOTEL CALIFORNIA – 22ND NOV!\nThe Eagles Experience is coming to the peninsula! The Premier Eagles Tribute Experience\, Motel California\, are recognised for accomplished & highly skilled musicianship. Smooth 5 part harmonies & spine tingling guitar riffs just like the originals. Thrilling 3 hr show that’s earn’t 5 star reviews for over 10 yrs. \nKicking off with the harmonically mesmerising accapella Seven Bridges Road before launching into a string of The Eagles most popular hits including Hotel California\, Take It Easy\, One of These Nights\, Tequila Sunrise\, Desperado\, Heartache Tonight\, Life in the Fast Lane\, Witchy Woman\, New Kid In Town\, Take it to the Limit\, Lyin’ Eyes\, Get Over It\, I Can’t Tell You Why\, Best of My Love and more. The evening concludes with an explosive rendition of Funk 49 – that will leave a permanent smile on your dial \nDon’t be disappointed by inferior copycat shows\, Motel California doesn’t disappoint. \nHere’s what our fans have to say: \n“What a great night last night!\nI’ve seen a lot of bands over the years\, original\, half original and tribute and you were up there with the best. ” \n“Your musicianship was brilliant. It sounded so authentic. The icing on the cake was your singing harmony. So many tributes are let down by the singing.” \nSecure your tickets now. Door sales only if not sold out prior. Full refund guarantee in case of any unforseen cancellation of the event. \nTickets: Click here
URL:https://paraoa.co.nz/event/the-eagles-experience-motel-california-22nd-nov/
ATTACH;FMTTYPE=image/png:https://paraoa.co.nz/wp-content/uploads/2025/06/image_2025-06-26_110758495.png
END:VEVENT
BEGIN:VEVENT
DTSTART;TZID=Pacific/Auckland:20251123T140000
DTEND;TZID=Pacific/Auckland:20251123T170000
DTSTAMP:20260423T031915
CREATED:20250702T084226Z
LAST-MODIFIED:20250702T084226Z
UID:9464-1763906400-1763917200@paraoa.co.nz
SUMMARY:BARBIE'S COUNTRY ROCK SHOW - 23RD NOV!
DESCRIPTION:BARBIE’S COUNTRY ROCK SHOW – 23RD NOV!\nBy the time the first strings are strummed and the bow hits the fiddle at Paraoa Brewing Co. on Sunday\, 23rd November 2025\, it’ll be clear – country rock is alive and kicking in Whangaparaoa\, and it’s being led by none other than Barbie Davidson and Nick Jones. \nBarbie Davidson\, a shining star in New Zealand’s Country music scene\, first stole hearts with her 2006 album Two Hearts\, an authentic collection of country anthems and tender ballads that still resonates with fans today. Re-released with a refreshed cover\, Two Hearts is available now on Bandcamp.com for those ready to rediscover (or fall in love for the first time)\, with her sound. \nJoining Barbie on stage is virtuosic violinist Nick Jones\, a performer whose fiery fiddle work\, adds depth\, flair\, and toe-tapping energy to every song. Together\, Barbie and Nick perform as a dynamic duo\, blending heartfelt harmonies\, driving rhythms\, and old-school country soul into an unforgettable live experience. \nTheir upcoming show at Paraoa Brewing Co. is a lot more than a just a concert\, it’s a celebration of Kiwi Country spirit. With a special appearance from the Homegrown Line Dancing Club\, this show will not only entertain but get audiences involved too. These dancers won’t just be performing\, they’ll be inviting the audience to join them on the floor\, turning the venue into a joyous\, boots-and-all country rock party. \nThe event is proudly presented by GAP Radio\, Whangaparaoa’s home of community-driven audio streaming and Barbie’s official promoters. GAP Radio has been championing Barbie’s music across the Internet and now brings that energy straight to the stage. \nTickets: Click here
URL:https://paraoa.co.nz/event/barbies-country-rock-show-23rd-nov/
ATTACH;FMTTYPE=image/png:https://paraoa.co.nz/wp-content/uploads/2025/07/image_2025-07-02_204057027.png
END:VEVENT
BEGIN:VEVENT
DTSTART;TZID=Pacific/Auckland:20251125T190000
DTEND;TZID=Pacific/Auckland:20251125T213000
DTSTAMP:20260423T031915
CREATED:20250703T024210Z
LAST-MODIFIED:20250820T230526Z
UID:9547-1764097200-1764106200@paraoa.co.nz
SUMMARY:LATIN NIGHT SALSA & BACHATA - 25TH NOV!
DESCRIPTION:LATIN NIGHT SALSA & BACHATA – 25TH NOV!\n 
URL:https://paraoa.co.nz/event/latin-night-salsa-bachata-25th-nov/
ATTACH;FMTTYPE=image/png:https://paraoa.co.nz/wp-content/uploads/2025/07/TuesdayParaoa-web-.png
END:VEVENT
BEGIN:VEVENT
DTSTART;TZID=Pacific/Auckland:20251130T133000
DTEND;TZID=Pacific/Auckland:20251130T153000
DTSTAMP:20260423T031915
CREATED:20250703T022054Z
LAST-MODIFIED:20250703T022054Z
UID:9506-1764509400-1764516600@paraoa.co.nz
SUMMARY:SUNDAY SALSA - 30TH NOV!
DESCRIPTION:SUNDAY SALSA – 30TH NOV!\n 
URL:https://paraoa.co.nz/event/sunday-salsa-30th-nov/
ATTACH;FMTTYPE=image/jpeg:https://paraoa.co.nz/wp-content/uploads/2025/07/WhatsApp-Image-2025-06-24-at-09.53.45_a18fabbc.jpg
END:VEVENT
BEGIN:VEVENT
DTSTART;TZID=Pacific/Auckland:20251130T140000
DTEND;TZID=Pacific/Auckland:20251130T160000
DTSTAMP:20260423T031915
CREATED:20251101T035350Z
LAST-MODIFIED:20251101T035350Z
UID:9705-1764511200-1764518400@paraoa.co.nz
SUMMARY:GJAZZ 5 ALGERIA & INDIA FUSION - 30TH NOV!
DESCRIPTION:GJAZZ 5 ALGERIA & INDIA FUSION – 30TH NOV!\nGjazz5 – Algeria/India Fusion Project taps into a rarely explored area of music fusion between some of the rhythmically richest cultures on this planet\, India and Algeria. \nProject initiator Olivier Holland\, a familiar face on the Auckland scene\, is bringing in from overseas the accomplished world music/jazz expert Djamel Laroussi from Algeria on guitar and vocals. Manjit Singh\, originally from India but residing in Papatoetoe\, is the Indian music expert in this mix and well known in New Zealand as tabla player ‘par excellence’. Olivier Holland on bass and Stephen Thomas on drums are completing the lineup. \nA mind-bobbling mix of Indian and Algerian rhythms in a framework of world music and jazz\, this evening will be an event like no other\, presenting a musical mix that is like no other; a celebration of culture\, rhythm\, friendship and new music. \nTickets: Click here
URL:https://paraoa.co.nz/event/gjazz-5-algeria-india-fusion-30th-nov/
ATTACH;FMTTYPE=image/png:https://paraoa.co.nz/wp-content/uploads/2025/11/image_2025-11-01_165042822.png
END:VEVENT
BEGIN:VEVENT
DTSTART;TZID=Pacific/Auckland:20251130T160000
DTEND;TZID=Pacific/Auckland:20251130T170000
DTSTAMP:20260423T031915
CREATED:20250214T015532Z
LAST-MODIFIED:20250214T015532Z
UID:9041-1764518400-1764522000@paraoa.co.nz
SUMMARY:LINE DANCING - 30TH SEP!
DESCRIPTION:LINE DANCING – 30TH SEP!
URL:https://paraoa.co.nz/event/line-dancing-30th-sep/
ATTACH;FMTTYPE=image/jpeg:https://paraoa.co.nz/wp-content/uploads/2025/02/WhatsApp-Image-2025-02-11-at-21.24.53_3bc858f2.jpg
END:VEVENT
END:VCALENDAR